{"text_format":"1","workbook":"xlsx","n_sheets":2,"sheets":["Rapport","Finances"],"not_rendered":{"charts":0,"images":0,"macros":1,"external_links":0,"defined_names":2,"comments":0,"pivot_tables":0},"unopened":[],"bounds":{"document_bytes":16777216,"sheet_cells":100000,"rows_first":2000,"rows_last":500,"rows_between":2000,"halvings":0,"cell_chars":16384,"cell_head_chars":4096},"cells_cut":0,"cells_raw":0,"read":"whole","date_system":"1900"}

{"sheet":"Rapport","index":0,"n_rows":199,"n_cols":21,"rows_kept":199,"cut":false,"hidden":false,"merged":[[0,6,1,6],[0,1,1,4],[131,16,131,17],[144,16,144,17],[81,6,82,6],[121,16,121,17],[54,16,54,17],[86,16,86,17],[4,14,4,15],[26,16,26,19],[56,16,56,17],[81,7,82,7],[81,8,82,8],[81,9,82,9],[6,16,6,17],[58,16,58,17]]}
[null,"Chiffres pour rapport d'activité annuel EPFL",null,null,null,null,"Année des statistiques :",2017,2,2,2,2,null,null,-1]
[null,null,null,null,null,null,null,{"$f":"H1","v":2017},{"$f":"$H$1+I1-2","v":2017},{"$f":"$H$1+J1-2","v":2017},{"$f":"$H$1+K1-2","v":2017},{"$f":"$H$1+L1-2","v":2017},null,null,0]
[null,null,null,null,null,null,null,"Etudiants","Personnel","Finance","Ranking","Tech Transfert/Autre",null,null,1]
[null,"L'EPFL en chiffres - page 1",null,null,null,null,"Etudiants par niveau et domaine d'études - page 4"]
[null,null,null,null,null,null,null,null,null,null,null,null,null,null,"Etudiants",null,{"$f":"ROW(#REF!)","v":{"$error":"#REF!"}},{"$f":"ROW(#REF!)","v":{"$error":"#REF!"}},{"$f":"ROW(#REF!)","v":{"$error":"#REF!"}},{"$f":"ROW(#REF!)","v":{"$error":"#REF!"}},{"$f":"ROW(#REF!)","v":{"$error":"#REF!"}}]
[null,"En bref",null,null,null,null,{"$f":"$H$2","v":2017},"Bachelors"," Masters ","Doctorants ","Postformation ","Total",null,null,"Labels","Colonnes"]
[null,null,null,null,null,null,"Faculté des sciences de base (SB)",{"$f":"INDIRECT(ADDRESS(Q$5+$H$2-INDIRECT(ADDRESS(Q$5,1,,,$O$5)),$P7,,,$O$5))","v":{"$error":"#REF!"}},{"$error":"#REF!"},{"$error":"#REF!"},{"$error":"#REF!"},{"$error":"#REF!"},null,null,"SB",{"$f":"COLUMN(#REF!)","v":{"$error":"#REF!"}},"Divers",null,{"$f":"ROW(#REF!)","v":{"$error":"#REF!"}},null,2005]
[null,{"$f":"IF($L$2<$U$7,\"NA\",INDIRECT(ADDRESS($S$7+$L$2-INDIRECT(ADDRESS($S$7,1,,,$Q$7)),$Q8,,,$Q$7)))","v":{"$error":"#REF!"}},"Laboratoires",null,null,null,"Mathématiques",{"$error":"#REF!"},{"$error":"#REF!"},{"$error":"#REF!"},{"$error":"#REF!"},{"$error":"#REF!"},null,null,"MA",{"$f":"COLUMN(#REF!)","v":{"$error":"#REF!"}},{"$f":"COLUMN(#REF!)","v":{"$error":"#REF!"}}]
[null,{"$error":"#REF!"},"Publications scientifiques selon la base de référence ISI Web of Science",null,null,null,"Physique",{"$error":"#REF!"},{"$error":"#REF!"},{"$error":"#REF!"},{"$error":"#REF!"},{"$error":"#REF!"},null,null,"PH",{"$f":"COLUMN(#REF!)","v":{"$error":"#REF!"}},{"$f":"COLUMN(#REF!)","v":{"$error":"#REF!"}}]
[null,{"$error":"#REF!"},{"$f":"\"Bourses ERC (de 2007 à \"&$J$2&\") dont 4 en provenance du FNS en 2014\"","v":"Bourses ERC (de 2007 à 2017) dont 4 en provenance du FNS en 2014"},null,null,null,"Chimie et génie chimique",{"$error":"#REF!"},{"$error":"#REF!"},{"$error":"#REF!"},{"$error":"#REF!"},{"$error":"#REF!"},null,null,"CH",{"$f":"COLUMN(#REF!)","v":{"$error":"#REF!"}},{"$f":"COLUMN(#REF!)","v":{"$error":"#REF!"}}]
[null,{"$error":"#REF!"},"Programmes Bachelor",null,null,null,null,null,null,null,null,null,null,null,null,null,{"$f":"COLUMN(#REF!)","v":{"$error":"#REF!"}}]
[null,{"$error":"#REF!"},"Programmes Master",null,null,null,"Faculté des sciences de la vie (SV)",{"$f":"INDIRECT(ADDRESS(Q$5+$H$2-INDIRECT(ADDRESS(Q$5,1,,,$O$5)),$P12,,,$O$5))","v":{"$error":"#REF!"}},{"$f":"INDIRECT(ADDRESS(R$5+$H$2-INDIRECT(ADDRESS(R$5,1,,,$O$5)),$P12,,,$O$5))","v":{"$error":"#REF!"}},{"$f":"INDIRECT(ADDRESS(S$5+$H$2-INDIRECT(ADDRESS(S$5,1,,,$O$5)),$P12,,,$O$5))","v":{"$error":"#REF!"}},{"$f":"INDIRECT(ADDRESS(T$5+$H$2-INDIRECT(ADDRESS(T$5,1,,,$O$5)),$P12,,,$O$5))","v":{"$error":"#REF!"}},{"$f":"INDIRECT(ADDRESS(U$5+$H$2-INDIRECT(ADDRESS(U$5,1,,,$O$5)),$P12,,,$O$5))","v":{"$error":"#REF!"}},null,null,"FSV",{"$f":"COLUMN(#REF!)","v":{"$error":"#REF!"}},{"$f":"COLUMN(#REF!)","v":{"$error":"#REF!"}}]
[null,{"$error":"#REF!"},"Celulles R&D dans l'Innovation Park",null,null,null,null,null,null,null,null,null,null,null,null,null,{"$f":"COLUMN(#REF!)","v":{"$error":"#REF!"}}]
[null,{"$error":"#REF!"},{"$f":"\"Millions de francs levés en \"&$L$2","v":"Millions de francs levés en 2017"},null,null,null,"Faculté des sciences et techniques de l’ingénieur (STI)",{"$f":"INDIRECT(ADDRESS(Q$5+$H$2-INDIRECT(ADDRESS(Q$5,1,,,$O$5)),$P14,,,$O$5))","v":{"$error":"#REF!"}},{"$error":"#REF!"},{"$error":"#REF!"},{"$error":"#REF!"},{"$error":"#REF!"},null,null,"STI",{"$f":"COLUMN(#REF!)","v":{"$error":"#REF!"}},{"$f":"COLUMN(#REF!)","v":{"$error":"#REF!"}},null,"TT",1990]
[null,{"$f":"IF($L$2<$T$14,\"NA\",(SUM(INDIRECT(ADDRESS($S$15+MAX($D$15,$P$147)-INDIRECT(ADDRESS($S$15,1,,,$S$14)),$P$40,,,$S$14)):INDIRECT(ADDRESS($S$15+$L$2-INDIRECT(ADDRESS($S$15,1,,,$S$14)),$P$40,,,$S$14)))+IF($D$15<$P$147,SUM(INDIRECT(ADDRESS($T$15,MAX($P$40-$P$147+$D$15+1),,,$S$14)):INDIRECT(ADDRESS($T$15,$P$40,,,$S$14))),0))/($L$2-$D$15+1))","v":{"$error":"#REF!"}},"Start-Up en moyenne par année depuis",2000,{"$f":"\" (\"&$K$156&\" crées en \"&$L$2&\")\"","v":{"$error":"#REF!"}},null,"Science et génie des matériaux ",{"$error":"#REF!"},{"$error":"#REF!"},{"$error":"#REF!"},{"$error":"#REF!"},{"$error":"#REF!"},null,null,"MX",{"$f":"COLUMN(#REF!)","v":{"$error":"#REF!"}},{"$f":"COLUMN(#REF!)","v":{"$error":"#REF!"}},null,{"$f":"ROW(#REF!)","v":{"$error":"#REF!"}},{"$f":"ROW(#REF!)","v":{"$error":"#REF!"}}]
[null,null,null,null,null,null,"Génie mécanique",{"$error":"#REF!"},{"$error":"#REF!"},{"$error":"#REF!"},{"$error":"#REF!"},{"$error":"#REF!"},null,null,"GM",{"$f":"COLUMN(#REF!)","v":{"$error":"#REF!"}},{"$f":"COLUMN(#REF!)","v":{"$error":"#REF!"}}]
[null,"Population du campus (en personnes) - page 2",null,null,null,null,"Microtechnique",{"$error":"#REF!"},{"$error":"#REF!"},{"$error":"#REF!"},{"$error":"#REF!"},{"$error":"#REF!"},null,null,"MT",{"$f":"COLUMN(#REF!)","v":{"$error":"#REF!"}},{"$f":"COLUMN(#REF!)","v":{"$error":"#REF!"}}]
[null,null,null,null,null,null,"Génie électrique et électronique",{"$error":"#REF!"},{"$error":"#REF!"},{"$error":"#REF!"},{"$error":"#REF!"},{"$error":"#REF!"},null,null,"EL",{"$f":"COLUMN(#REF!)","v":{"$error":"#REF!"}},{"$f":"COLUMN(#REF!)","v":{"$error":"#REF!"}}]
[null,"Etudiants",null,null,null,null,null,null,null,null,null,null,null,null,null,null,{"$f":"COLUMN(#REF!)","v":{"$error":"#REF!"}}]
[null,null,null,null,null,null,"Faculté informatique et communications (IC)",{"$f":"INDIRECT(ADDRESS(Q$5+$H$2-INDIRECT(ADDRESS(Q$5,1,,,$O$5)),$P20,,,$O$5))","v":{"$error":"#REF!"}},{"$error":"#REF!"},{"$error":"#REF!"},{"$error":"#REF!"},{"$error":"#REF!"},null,null,"IC",{"$f":"COLUMN(#REF!)","v":{"$error":"#REF!"}},{"$f":"COLUMN(#REF!)","v":{"$error":"#REF!"}}]
[null,{"$f":"$H$37","v":{"$error":"#REF!"}},"BSc",null,null,null,"Systèmes de communication ",{"$error":"#REF!"},{"$error":"#REF!"},{"$error":"#REF!"},{"$error":"#REF!"},{"$error":"#REF!"},null,null,"SC",{"$f":"COLUMN(#REF!)","v":{"$error":"#REF!"}},{"$f":"COLUMN(#REF!)","v":{"$error":"#REF!"}}]
[null,{"$f":"$I$37","v":{"$error":"#REF!"}},"MSc",null,null,null,"Informatique",{"$error":"#REF!"},{"$error":"#REF!"},{"$error":"#REF!"},{"$error":"#REF!"},{"$error":"#REF!"},null,null,"INF",{"$f":"COLUMN(#REF!)","v":{"$error":"#REF!"}},{"$f":"COLUMN(#REF!)","v":{"$error":"#REF!"}}]
[null,{"$f":"$J$37","v":{"$error":"#REF!"}},"PhD",null,null,null,null,null,null,null,null,null,null,null,null,null,{"$f":"COLUMN(#REF!)","v":{"$error":"#REF!"}}]
[null,{"$f":"$K$37","v":{"$error":"#REF!"}},"Postformation",null,null,null,"Faculté d’environnement naturel, architectural et construit (ENAC)",{"$f":"INDIRECT(ADDRESS(Q$5+$H$2-INDIRECT(ADDRESS(Q$5,1,,,$O$5)),$P24,,,$O$5))","v":{"$error":"#REF!"}},{"$error":"#REF!"},{"$error":"#REF!"},{"$error":"#REF!"},{"$error":"#REF!"},null,null,"ENAC",{"$f":"COLUMN(#REF!)","v":{"$error":"#REF!"}},{"$f":"COLUMN(#REF!)","v":{"$error":"#REF!"}}]
[null,null,null,null,null,null,"Sciences et ingénierie de l’environnement",{"$error":"#REF!"},{"$error":"#REF!"},{"$error":"#REF!"},{"$error":"#REF!"},{"$error":"#REF!"},null,null,"SIE",{"$f":"COLUMN(#REF!)","v":{"$error":"#REF!"}},{"$f":"COLUMN(#REF!)","v":{"$error":"#REF!"}}]
[null,"Personnel (en personnes)",null,null,null,null,"Génie civil",{"$error":"#REF!"},{"$error":"#REF!"},{"$error":"#REF!"},{"$error":"#REF!"},{"$error":"#REF!"},null,null,"GC",{"$f":"COLUMN(#REF!)","v":{"$error":"#REF!"}},{"$f":"COLUMN(#REF!)","v":{"$error":"#REF!"}}]
[null,null,null,null,null,null,"Architecture",{"$error":"#REF!"},{"$error":"#REF!"},{"$error":"#REF!"},{"$error":"#REF!"},{"$error":"#REF!"},null,null,"AR",{"$f":"COLUMN(#REF!)","v":{"$error":"#REF!"}},"Personnes"]
[null,{"$f":"INDIRECT(ADDRESS($Q28+$I$2-INDIRECT(ADDRESS($Q28,1,,,$Q$27)),$P$40,,,$Q$27))","v":{"$error":"#REF!"}},"collaborateurs administratifs",null,null,null,null,null,null,null,null,null,null,null,null,null,{"$f":"ROW(#REF!)","v":{"$error":"#REF!"}}]
[null,{"$f":"INDIRECT(ADDRESS($Q29+$I$2-INDIRECT(ADDRESS($Q29,1,,,$Q$27)),$P$40,,,$Q$27))","v":{"$error":"#REF!"}},"collaborateurs techniques",null,null,null,"Collège du management de la technologie (CdM)",{"$f":"INDIRECT(ADDRESS(Q$5+$H$2-INDIRECT(ADDRESS(Q$5,1,,,$O$5)),$P29,,,$O$5))","v":{"$error":"#REF!"}},{"$error":"#REF!"},{"$error":"#REF!"},{"$error":"#REF!"},{"$error":"#REF!"},null,null,"CDM",{"$f":"COLUMN(#REF!)","v":{"$error":"#REF!"}},{"$f":"ROW(#REF!)","v":{"$error":"#REF!"}}]
[null,{"$f":"INDIRECT(ADDRESS($Q30+$I$2-INDIRECT(ADDRESS($Q30,1,,,$Q$27)),$P$40,,,$Q$27))+INDIRECT(ADDRESS($R30+$I$2-INDIRECT(ADDRESS($R30,1,,,$Q$27)),$P$40,,,$Q$27))+INDIRECT(ADDRESS($S30+$I$2-INDIRECT(ADDRESS($S30,1,,,$Q$27)),$P$40,,,$Q$27))+INDIRECT(ADDRESS($T30+$I$2-INDIRECT(ADDRESS($T30,1,,,$Q$27)),$P$40,,,$Q$27))","v":{"$error":"#REF!"}},"corps intermédiaire (inclus assistants)",null,null,null,"Management de la technologie",{"$error":"#REF!"},{"$error":"#REF!"},{"$error":"#REF!"},{"$error":"#REF!"},{"$error":"#REF!"},null,null,"MTE",{"$f":"COLUMN(#REF!)","v":{"$error":"#REF!"}},{"$f":"ROW(#REF!)","v":{"$error":"#REF!"}},{"$f":"ROW(#REF!)","v":{"$error":"#REF!"}},{"$f":"ROW(#REF!)","v":{"$error":"#REF!"}},{"$f":"ROW(#REF!)","v":{"$error":"#REF!"}}]
[null,{"$f":"INDIRECT(ADDRESS($Q31+$I$2-INDIRECT(ADDRESS($Q31,1,,,$Q$27)),$P$40,,,$Q$27))+INDIRECT(ADDRESS($R31+$I$2-INDIRECT(ADDRESS($R31,1,,,$Q$27)),$P$40,,,$Q$27))+INDIRECT(ADDRESS($S31+$I$2-INDIRECT(ADDRESS($S31,1,,,$Q$27)),$P$40,,,$Q$27))+INDIRECT(ADDRESS($T31+$I$2-INDIRECT(ADDRESS($T31,1,,,$Q$27)),$P$40,,,$Q$27))","v":{"$error":"#REF!"}},"professeurs",null,null,null,"Ingénierie financière",{"$error":"#REF!"},{"$error":"#REF!"},{"$error":"#REF!"},{"$error":"#REF!"},{"$error":"#REF!"},null,null,"IF",{"$f":"COLUMN(#REF!)","v":{"$error":"#REF!"}},{"$f":"ROW(#REF!)","v":{"$error":"#REF!"}},{"$f":"ROW(#REF!)","v":{"$error":"#REF!"}},{"$f":"ROW(#REF!)","v":{"$error":"#REF!"}},{"$f":"ROW(#REF!)","v":{"$error":"#REF!"}}]
[]
[null,"Population totale du campus",null,null,null,null,"Humanités digitales (CdH)",{"$f":"INDIRECT(ADDRESS(Q$5+$H$2-INDIRECT(ADDRESS(Q$5,1,,,$O$5)),$P33,,,$O$5))","v":{"$error":"#REF!"}},{"$f":"INDIRECT(ADDRESS(R$5+$H$2-INDIRECT(ADDRESS(R$5,1,,,$O$5)),$P33,,,$O$5))","v":{"$error":"#REF!"}},{"$f":"INDIRECT(ADDRESS(S$5+$H$2-INDIRECT(ADDRESS(S$5,1,,,$O$5)),$P33,,,$O$5))","v":{"$error":"#REF!"}},{"$f":"INDIRECT(ADDRESS(T$5+$H$2-INDIRECT(ADDRESS(T$5,1,,,$O$5)),$P33,,,$O$5))","v":{"$error":"#REF!"}},{"$f":"INDIRECT(ADDRESS(U$5+$H$2-INDIRECT(ADDRESS(U$5,1,,,$O$5)),$P33,,,$O$5))","v":{"$error":"#REF!"}},null,null,"CDH",{"$f":"COLUMN(#REF!)","v":{"$error":"#REF!"}}]
[]
[null,{"$f":"IF(ISNUMBER($B$36),$L$37+$B$28+$B$29+$B$30+$B$31-$B$36,\"                     NA\")","v":"                     NA"},"Total",null,null,null,"Gestion de l'énergie et construction durable (EME-MES)",{"$f":"INDIRECT(ADDRESS(Q$5+$H$2-INDIRECT(ADDRESS(Q$5,1,,,$O$5)),$P35,,,$O$5))","v":{"$error":"#REF!"}},{"$f":"INDIRECT(ADDRESS(R$5+$H$2-INDIRECT(ADDRESS(R$5,1,,,$O$5)),$P35,,,$O$5))","v":{"$error":"#REF!"}},{"$f":"INDIRECT(ADDRESS(S$5+$H$2-INDIRECT(ADDRESS(S$5,1,,,$O$5)),$P35,,,$O$5))","v":{"$error":"#REF!"}},{"$f":"INDIRECT(ADDRESS(T$5+$H$2-INDIRECT(ADDRESS(T$5,1,,,$O$5)),$P35,,,$O$5))","v":{"$error":"#REF!"}},{"$f":"INDIRECT(ADDRESS(U$5+$H$2-INDIRECT(ADDRESS(U$5,1,,,$O$5)),$P35,,,$O$5))","v":{"$error":"#REF!"}},null,null,"EME",{"$f":"COLUMN(#REF!)","v":{"$error":"#REF!"}}]
[null,{"$f":"IF($L$2<$U$7,\"NA\",INDIRECT(ADDRESS($S$7+$L$2-INDIRECT(ADDRESS($S$7,1,,,$Q$7)),$Q$16,,,$Q$7)))","v":{"$error":"#REF!"}},"assistants-doctorants comptés une seule fois en tant que doctorants"]
[null,null,null,null,null,null,"Total",{"$f":"SUM(H$7,H$12,H$14,H$20,H$24,H$29,H$33,H$35)","v":{"$error":"#REF!"}},{"$f":"SUM(I$7,I$12,I$14,I$20,I$24,I$29,I$33,I$35)","v":{"$error":"#REF!"}},{"$f":"SUM(J$7,J$12,J$14,J$20,J$24,J$29,J$33,J$35)","v":{"$error":"#REF!"}},{"$f":"SUM(K$7,K$12,K$14,K$20,K$24,K$29,K$33,K$35)","v":{"$error":"#REF!"}},{"$f":"SUM(L$7,L$12,L$14,L$20,L$24,L$29,L$33,L$35)","v":{"$error":"#REF!"}},null,"Ajouter ENT si nécessaire","TOT 1",{"$f":"COLUMN(#REF!)","v":{"$error":"#REF!"}}]
[null,{"$f":"INDIRECT(ADDRESS(Q$40+$H$2-INDIRECT(ADDRESS(Q$40,1,,,$O$5)),$R40,,,$O$5))","v":{"$error":"#REF!"}},"Etudiants CMS",null,null,null,null,null,null,null,null,null,null,null,"ENT",{"$f":"COLUMN(#REF!)","v":{"$error":"#REF!"}}]
[null,{"$f":"IF($L$2<$U$7,\"NA\",INDIRECT(ADDRESS($S$7+$L$2-INDIRECT(ADDRESS($S$7,1,,,$Q$7)),$Q$17,,,$Q$7)))","v":{"$error":"#REF!"}},"collaborateurs Innovation Park",null,null,null,null,null,"Etudiants BA+MA:",null,null,null,null,null,"ADM",{"$f":"COLUMN(#REF!)","v":{"$error":"#REF!"}}]
[null,null,null,null,null,null,null,null,{"$f":"$H$37+$I$37","v":{"$error":"#REF!"}},null,null,null,null,null,"TOT 2",{"$f":"COLUMN(#REF!)","v":{"$error":"#REF!"}},{"$f":"ROW(#REF!)","v":{"$error":"#REF!"}},{"$f":"COLUMN(#REF!)","v":{"$error":"#REF!"}}]
[null,"Effectifs d'étudiants - page 3",null,null,null,null,"Effectif du personnel par Faculté et Service (EPT) - page 7"]
[null,null,null,null,null,null,null,null,null,null,null,null,null,null,"Personnel EPT",{"$f":"ROW(#REF!)","v":{"$error":"#REF!"}}]
[null,{"$f":"IF($L$2<$U$7,\"NA\",INDIRECT(ADDRESS($S$7+$L$2-INDIRECT(ADDRESS($S$7,1,,,$Q$7)),$Q18,,,$Q$7)))","v":{"$error":"#REF!"}},"BSc et CMS immatriculations",null,null,null,{"$f":"$I$2","v":2017},"Total"]
[null,{"$error":"#REF!"},"candidatures",null,null,null,"Faculté des sciences de base (SB)",{"$f":"INDIRECT(ADDRESS(P$42+$I$2-INDIRECT(ADDRESS(P$42,1,,,$O$42)),$P7,,,$O$42))","v":{"$error":"#REF!"}}]
[null,{"$error":"#REF!"},"admissions",null,null,null,"Mathématiques",{"$f":"INDIRECT(ADDRESS(P$42+$I$2-INDIRECT(ADDRESS(P$42,1,,,$O$42)),$P8,,,$O$42))","v":{"$error":"#REF!"}}]
[null,{"$error":"#REF!"},"MSc immatriculations",null,null,null,"Physique",{"$f":"INDIRECT(ADDRESS(P$42+$I$2-INDIRECT(ADDRESS(P$42,1,,,$O$42)),$P9,,,$O$42))","v":{"$error":"#REF!"}}]
[null,{"$error":"#REF!"},"candidatures",null,null,null,"Chimie et génie chimique",{"$f":"INDIRECT(ADDRESS(P$42+$I$2-INDIRECT(ADDRESS(P$42,1,,,$O$42)),$P10,,,$O$42))","v":{"$error":"#REF!"}}]
[null,{"$error":"#REF!"},"admissions"]
[null,{"$error":"#REF!"},"PhD immatriculations",null,null,null,"Faculté des sciences de la vie (SV)",{"$f":"INDIRECT(ADDRESS(P$42+$I$2-INDIRECT(ADDRESS(P$42,1,,,$O$42)),$P12,,,$O$42))","v":{"$error":"#REF!"}}]
[null,{"$error":"#REF!"},"candidatures"]
[null,{"$error":"#REF!"},"admissions",null,null,null,"Faculté des sciences et techniques de l’ingénieur (STI)",{"$f":"INDIRECT(ADDRESS(P$42+$I$2-INDIRECT(ADDRESS(P$42,1,,,$O$42)),$P14,,,$O$42))","v":{"$error":"#REF!"}}]
[null,null,null,null,null,null,"Science et génie des matériaux ",{"$f":"INDIRECT(ADDRESS(P$42+$I$2-INDIRECT(ADDRESS(P$42,1,,,$O$42)),$P15,,,$O$42))","v":{"$error":"#REF!"}}]
[null,"Evolution des dépenses budgétaires (kCHF) et du nombre d'étudiants - page 3",null,null,null,null,"Génie mécanique",{"$f":"INDIRECT(ADDRESS(P$42+$I$2-INDIRECT(ADDRESS(P$42,1,,,$O$42)),$P16,,,$O$42))","v":{"$error":"#REF!"}}]
[null,null,null,null,null,null,"Microtechnique",{"$f":"INDIRECT(ADDRESS(P$42+$I$2-INDIRECT(ADDRESS(P$42,1,,,$O$42)),$P17,,,$O$42))","v":{"$error":"#REF!"}}]
[null,1982,null,null,null,null,"Génie électrique et électronique",{"$f":"INDIRECT(ADDRESS(P$42+$I$2-INDIRECT(ADDRESS(P$42,1,,,$O$42)),$P18,,,$O$42))","v":{"$error":"#REF!"}},null,null,null,null,null,null,null,null,"Etudiants"]
[null,{"$f":"INDIRECT(ADDRESS($Q$56+$B$55-INDIRECT(ADDRESS($Q$56,1,,,$Q$55)),$R$56,,,$Q$55))","v":{"$error":"#REF!"}},"étudiants",null,null,null,null,null,null,null,null,null,null,null,null,null,{"$f":"ROW(#REF!)","v":{"$error":"#REF!"}},{"$f":"COLUMN(#REF!)","v":{"$error":"#REF!"}}]
[null,{"$f":"INDIRECT(ADDRESS($Q$58+$B$55-INDIRECT(ADDRESS($Q$58,1,,,$Q$57)),$R$58,,,$Q$57))-INDIRECT(ADDRESS($Q$60+$B$55-INDIRECT(ADDRESS($Q$60,1,,,$Q$59)),$R$60,,,$Q$59))","v":{"$error":"#REF!"}},"kCHF de budget (sans recettes internes)",null,null,null,"Faculté informatique et communications (IC)",{"$f":"INDIRECT(ADDRESS(P$42+$I$2-INDIRECT(ADDRESS(P$42,1,,,$O$42)),$P20,,,$O$42))","v":{"$error":"#REF!"}},null,null,null,null,null,null,null,null,"Finances d"]
[null,1997,null,null,null,null,"Systèmes de communication ",{"$f":"INDIRECT(ADDRESS(P$42+$I$2-INDIRECT(ADDRESS(P$42,1,,,$O$42)),$P21,,,$O$42))","v":{"$error":"#REF!"}},null,null,null,null,null,null,null,null,{"$f":"ROW(#REF!)","v":{"$error":"#REF!"}},{"$f":"COLUMN(#REF!)","v":{"$error":"#REF!"}}]
[null,{"$f":"INDIRECT(ADDRESS($Q$56+$B$58-INDIRECT(ADDRESS($Q$56,1,,,$Q$55)),$R$56,,,$Q$55))","v":{"$error":"#REF!"}},"étudiants",null,null,null,"Informatique",{"$f":"INDIRECT(ADDRESS(P$42+$I$2-INDIRECT(ADDRESS(P$42,1,,,$O$42)),$P22,,,$O$42))","v":{"$error":"#REF!"}},null,null,null,null,null,null,null,null,"Divers"]
[null,{"$f":"INDIRECT(ADDRESS($Q$58+$B$58-INDIRECT(ADDRESS($Q$58,1,,,$Q$57)),$R$58,,,$Q$57))-INDIRECT(ADDRESS($Q$60+$B$58-INDIRECT(ADDRESS($Q$60,1,,,$Q$59)),$R$60,,,$Q$59))","v":{"$error":"#REF!"}},"kCHF de budget (sans recettes internes)",null,null,null,null,null,null,null,null,null,null,null,null,null,{"$f":"ROW(#REF!)","v":{"$error":"#REF!"}},{"$f":"COLUMN(#REF!)","v":{"$error":"#REF!"}}]
[null,{"$f":"MIN($H$2,$I$2)+$J$1-2","v":2017},null,null,null,null,"Faculté d’environnement naturel, architectural et construit (ENAC)",{"$f":"INDIRECT(ADDRESS(P$42+$I$2-INDIRECT(ADDRESS(P$42,1,,,$O$42)),$P24,,,$O$42))+INDIRECT(ADDRESS(P$42+$I$2-INDIRECT(ADDRESS(P$42,1,,,$O$42)),$P35,,,$O$42))","v":{"$error":"#REF!"}}]
[null,{"$f":"INDIRECT(ADDRESS($Q$56+$B$61-INDIRECT(ADDRESS($Q$56,1,,,$Q$55)),$R$56,,,$Q$55))","v":{"$error":"#REF!"}},"étudiants",null,null,null,"Sciences et ingénierie de l’environnement",{"$f":"INDIRECT(ADDRESS(P$42+$I$2-INDIRECT(ADDRESS(P$42,1,,,$O$42)),$P25,,,$O$42))+INDIRECT(ADDRESS(P$42+$I$2-INDIRECT(ADDRESS(P$42,1,,,$O$42)),$P35,,,$O$42))","v":{"$error":"#REF!"}}]
[null,{"$f":"INDIRECT(ADDRESS($Q$58+$B$61-INDIRECT(ADDRESS($Q$58,1,,,$Q$57)),$R$58,,,$Q$57))-INDIRECT(ADDRESS($Q$60+$B$61-INDIRECT(ADDRESS($Q$60,1,,,$Q$59)),$R$60,,,$Q$59))","v":{"$error":"#REF!"}},"kCHF de budget (sans recettes internes)",null,null,null,"Génie civil",{"$f":"INDIRECT(ADDRESS(P$42+$I$2-INDIRECT(ADDRESS(P$42,1,,,$O$42)),$P26,,,$O$42))","v":{"$error":"#REF!"}}]
[null,null,null,null,null,null,"Architecture",{"$f":"INDIRECT(ADDRESS(P$42+$I$2-INDIRECT(ADDRESS(P$42,1,,,$O$42)),$P27,,,$O$42))","v":{"$error":"#REF!"}}]
[null,"Effectifs d'étudiants - page 5"]
[null,null,null,null,null,null,"Collège du management de la technologie (CdM)",{"$f":"INDIRECT(ADDRESS(P$42+$I$2-INDIRECT(ADDRESS(P$42,1,,,$O$42)),$P29,,,$O$42))","v":{"$error":"#REF!"}}]
[null,{"$f":"$B$78-10","v":2007},null,null,null,null,"Management de la technologie",{"$f":"INDIRECT(ADDRESS(P$42+$I$2-INDIRECT(ADDRESS(P$42,1,,,$O$42)),$P30,,,$O$42))","v":{"$error":"#REF!"}}]
[null,{"$f":"INDIRECT(ADDRESS(U$5+$B$67-INDIRECT(ADDRESS(U$5,1,,,$O$5)),$P$7,,,$O$5))","v":{"$error":"#REF!"}},"SB",null,null,null,"Ingénierie financière",{"$f":"INDIRECT(ADDRESS(P$42+$I$2-INDIRECT(ADDRESS(P$42,1,,,$O$42)),$P31,,,$O$42))","v":{"$error":"#REF!"}}]
[null,{"$f":"INDIRECT(ADDRESS(U$5+$B$67-INDIRECT(ADDRESS(U$5,1,,,$O$5)),$P$12,,,$O$5))","v":{"$error":"#REF!"}},"SV"]
[null,{"$f":"INDIRECT(ADDRESS(U$5+$B$67-INDIRECT(ADDRESS(U$5,1,,,$O$5)),$P$14,,,$O$5))","v":{"$error":"#REF!"}},"STI",null,null,null,"Collège des humanités (CdH)",{"$f":"INDIRECT(ADDRESS(P$42+$I$2-INDIRECT(ADDRESS(P$42,1,,,$O$42)),$P$33,,,$O$42))","v":{"$error":"#REF!"}}]
[null,{"$f":"INDIRECT(ADDRESS(U$5+$B$67-INDIRECT(ADDRESS(U$5,1,,,$O$5)),$P$20,,,$O$5))","v":{"$error":"#REF!"}},"IC"]
[null,{"$f":"INDIRECT(ADDRESS(U$5+$B$67-INDIRECT(ADDRESS(U$5,1,,,$O$5)),$P$24,,,$O$5))","v":{"$error":"#REF!"}},"ENAC",null,null,null,"Entités  transdisciplinaires (ENT)",{"$f":"INDIRECT(ADDRESS(P$42+$I$2-INDIRECT(ADDRESS(P$42,1,,,$O$42)),$P$38,,,$O$42))","v":{"$error":"#REF!"}}]
[null,{"$f":"INDIRECT(ADDRESS(U$5+$B$67-INDIRECT(ADDRESS(U$5,1,,,$O$5)),$P$29,,,$O$5))","v":{"$error":"#REF!"}},"CdM"]
[null,{"$f":"INDIRECT(ADDRESS(U$5+$B$67-INDIRECT(ADDRESS(U$5,1,,,$O$5)),$P$33,,,$O$5))","v":{"$error":"#REF!"}},"CdH",null,null,null,"Services centraux",{"$f":"INDIRECT(ADDRESS(P$42+$I$2-INDIRECT(ADDRESS(P$42,1,,,$O$42)),$P$39,,,$O$42))+INDIRECT(ADDRESS(P$42+$I$2-INDIRECT(ADDRESS(P$42,1,,,$O$42)),$P$35,,,$O$42))","v":{"$error":"#REF!"}},null,null,null,null,null,"y.c. EME"]
[null,{"$f":"INDIRECT(ADDRESS(U$5+$B$67-INDIRECT(ADDRESS(U$5,1,,,$O$5)),$P$35,,,$O$5))","v":{"$error":"#REF!"}},"EME"]
[null,{"$f":"SUM(B68:B75)","v":{"$error":"#REF!"}},"Total",null,null,null,"Total",{"$f":"SUM(H$44,H$49,H$51,H$57,H$61,H$66,H$70,H$72,H$74)","v":{"$error":"#REF!"}}]
[]
[null,{"$f":"$H$2","v":2017}]
[null,{"$f":"$L$7","v":{"$error":"#REF!"}},"SB"]
[null,{"$f":"$L$12","v":{"$error":"#REF!"}},"SV",null,null,null,"Personnel par catégorie (EPT) - page 8"]
[null,{"$f":"$L$14","v":{"$error":"#REF!"}},"STI",null,null,null,null,null,null,null,null,null,null,null,"Personnel EPT",{"$f":"COLUMN(#REF!)","v":{"$error":"#REF!"}}]
[null,{"$f":"$L$20","v":{"$error":"#REF!"}},"IC",null,null,null,{"$f":"$I$2","v":2017},"Total","Dont financé par budget","Dont financé par des tiers"]
[null,{"$f":"$L$24","v":{"$error":"#REF!"}},"ENAC",null,null,null,null,null,null,null,null,null,null,null,"Lignes","Divers"]
[null,{"$f":"$L$29","v":{"$error":"#REF!"}},"CdM",null,null,null,"Professeurs",{"$f":"SUM(H85:H88)","v":{"$error":"#REF!"}},{"$f":"SUM(I85:I88)","v":{"$error":"#REF!"}},{"$error":"#REF!"},null,null,null,null,null,{"$f":"ROW(#REF!)","v":{"$error":"#REF!"}}]
[null,{"$f":"$L$33","v":{"$error":"#REF!"}},"CdH",null,null,null,"Professeurs ordinaires",{"$f":"INDIRECT(ADDRESS($O85+$I$2-INDIRECT(ADDRESS($O85,1,,,$O$81)),$P$81,,,$O$81))","v":{"$error":"#REF!"}},{"$f":"H85-J85","v":{"$error":"#REF!"}},{"$f":"INDIRECT(ADDRESS($P$84+$I$2-INDIRECT(ADDRESS($P$84,1,,,$P$83)),$P85,,,$P$83))","v":{"$error":"#REF!"}},null,null,null,null,{"$f":"ROW(#REF!)","v":{"$error":"#REF!"}},{"$f":"COLUMN(#REF!)","v":{"$error":"#REF!"}}]
[null,{"$f":"$L$35","v":{"$error":"#REF!"}},"EME",null,null,null,"Professeurs associés",{"$f":"INDIRECT(ADDRESS($O86+$I$2-INDIRECT(ADDRESS($O86,1,,,$O$81)),$P$81,,,$O$81))","v":{"$error":"#REF!"}},{"$f":"H86-J86","v":{"$error":"#REF!"}},{"$f":"INDIRECT(ADDRESS($P$84+$I$2-INDIRECT(ADDRESS($P$84,1,,,$P$83)),$P86,,,$P$83))","v":{"$error":"#REF!"}},null,null,null,null,{"$f":"ROW(#REF!)","v":{"$error":"#REF!"}},{"$f":"COLUMN(#REF!)","v":{"$error":"#REF!"}}]
[null,{"$f":"SUM(B79:B86)","v":{"$error":"#REF!"}},"Total",null,null,null,"Professeurs assistants tenure track",{"$f":"INDIRECT(ADDRESS($O87+$I$2-INDIRECT(ADDRESS($O87,1,,,$O$81)),$P$81,,,$O$81))","v":{"$error":"#REF!"}},{"$error":"#REF!"},{"$f":"INDIRECT(ADDRESS($P$84+$I$2-INDIRECT(ADDRESS($P$84,1,,,$P$83)),$P87,,,$P$83))","v":{"$error":"#REF!"}},null,null,null,null,{"$f":"ROW(#REF!)","v":{"$error":"#REF!"}},{"$f":"COLUMN(#REF!)","v":{"$error":"#REF!"}},"dont et. Étrangers"]
[null,null,null,null,null,null,"Professeurs boursiers Fonds national",{"$f":"INDIRECT(ADDRESS($O88+$I$2-INDIRECT(ADDRESS($O88,1,,,$O$81)),$P$81,,,$O$81))","v":{"$error":"#REF!"}},{"$error":"#REF!"},{"$f":"INDIRECT(ADDRESS($P$84+$I$2-INDIRECT(ADDRESS($P$84,1,,,$P$83)),$P88,,,$P$83))","v":{"$error":"#REF!"}},null,null,null,null,{"$f":"ROW(#REF!)","v":{"$error":"#REF!"}},{"$f":"COLUMN(#REF!)","v":{"$error":"#REF!"}},{"$f":"ROW(#REF!)","v":{"$error":"#REF!"}}]
[null,null,"Etudiants étrangers (Total / %)",null,null,null,null,null,null,null,null,null,null,null,null,null,{"$f":"ROW(#REF!)","v":{"$error":"#REF!"}}]
[null,{"$f":"FIXED(INDIRECT(ADDRESS(Q$88+$H$2-INDIRECT(ADDRESS(Q$88,1,,,$Q$87)),$P40-2,,,$Q$87)),0)&\" / \"&FIXED(INDIRECT(ADDRESS(Q$88+$H$2-INDIRECT(ADDRESS(Q$88,1,,,$Q$87)),$P40-2,,,$Q$87))/H37*100,1)&\"%\"","v":{"$error":"#REF!"}},"Bachelor",null,null,null,"Corps intermédaire",{"$f":"SUM(H91:H94)","v":{"$error":"#REF!"}},{"$f":"SUM(I91:I94)","v":{"$error":"#REF!"}},{"$error":"#REF!"},null,null,null,null,null,null,{"$f":"ROW(#REF!)","v":{"$error":"#REF!"}}]
[null,{"$f":"FIXED(INDIRECT(ADDRESS(Q$89+$H$2-INDIRECT(ADDRESS(Q$89,1,,,$Q$87)),$P40-2,,,$Q$87)),0)&\" / \"&FIXED(INDIRECT(ADDRESS(Q$89+$H$2-INDIRECT(ADDRESS(Q$89,1,,,$Q$87)),$P40-2,,,$Q$87))/I37*100,1)&\"%\"","v":{"$error":"#REF!"}},"Master",null,null,null,"Professeurs titulaires internes",{"$f":"INDIRECT(ADDRESS($O91+$I$2-INDIRECT(ADDRESS($O91,1,,,$O$81)),$P$81,,,$O$81))","v":{"$error":"#REF!"}},{"$f":"H91-J91","v":{"$error":"#REF!"}},{"$f":"INDIRECT(ADDRESS($P$84+$I$2-INDIRECT(ADDRESS($P$84,1,,,$P$83)),$P91,,,$P$83))","v":{"$error":"#REF!"}},null,null,null,null,{"$f":"ROW(#REF!)","v":{"$error":"#REF!"}},{"$f":"COLUMN(#REF!)","v":{"$error":"#REF!"}},{"$f":"ROW(#REF!)","v":{"$error":"#REF!"}}]
[null,{"$f":"FIXED(INDIRECT(ADDRESS(Q$90+$H$2-INDIRECT(ADDRESS(Q$90,1,,,$Q$87)),$P40-2,,,$Q$87)),0)&\" / \"&FIXED(INDIRECT(ADDRESS(Q$90+$H$2-INDIRECT(ADDRESS(Q$90,1,,,$Q$87)),$P40-2,,,$Q$87))/I40*100,1)&\"%\"","v":{"$error":"#REF!"}},"Bachelor+Master",null,null,null,"Maîtres d'Enseignement et de recherche (MER)",{"$f":"INDIRECT(ADDRESS($O92+$I$2-INDIRECT(ADDRESS($O92,1,,,$O$81)),$P$81,,,$O$81))","v":{"$error":"#REF!"}},{"$error":"#REF!"},{"$f":"INDIRECT(ADDRESS($P$84+$I$2-INDIRECT(ADDRESS($P$84,1,,,$P$83)),$P92,,,$P$83))","v":{"$error":"#REF!"}},null,null,null,null,{"$f":"ROW(#REF!)","v":{"$error":"#REF!"}},{"$f":"COLUMN(#REF!)","v":{"$error":"#REF!"}}]
[null,{"$f":"FIXED(INDIRECT(ADDRESS(S$5+$H$2-INDIRECT(ADDRESS(S$5,1,,,$Q$87)),$P40-2,,,$Q$87)),0)&\" / \"&FIXED(INDIRECT(ADDRESS(S$5+$H$2-INDIRECT(ADDRESS(S$5,1,,,$Q$87)),$P40-2,,,$Q$87))/INDIRECT(ADDRESS(S$5+$H$2-INDIRECT(ADDRESS(S$5,1,,,$O$5)),$P40-2,,,$O$5))*100,1)&\"%\"","v":{"$error":"#REF!"}},"Doctorants",null,null,null,"Assistants",{"$f":"INDIRECT(ADDRESS($O93+$I$2-INDIRECT(ADDRESS($O93,1,,,$O$81)),$P$81,,,$O$81))","v":{"$error":"#REF!"}},{"$error":"#REF!"},{"$f":"INDIRECT(ADDRESS($P$84+$I$2-INDIRECT(ADDRESS($P$84,1,,,$P$83)),$P93,,,$P$83))","v":{"$error":"#REF!"}},null,null,null,null,{"$f":"ROW(#REF!)","v":{"$error":"#REF!"}},{"$f":"COLUMN(#REF!)","v":{"$error":"#REF!"}}]
[null,null,null,null,null,null,"Collaborateurs scientifiques",{"$f":"INDIRECT(ADDRESS($O94+$I$2-INDIRECT(ADDRESS($O94,1,,,$O$81)),$P$81,,,$O$81))","v":{"$error":"#REF!"}},{"$error":"#REF!"},{"$f":"INDIRECT(ADDRESS($P$84+$I$2-INDIRECT(ADDRESS($P$84,1,,,$P$83)),$P94,,,$P$83))","v":{"$error":"#REF!"}},null,null,null,null,{"$f":"ROW(#REF!)","v":{"$error":"#REF!"}},{"$f":"COLUMN(#REF!)","v":{"$error":"#REF!"}}]
[null,"EPFL au féminin - page 6"]
[null,null,null,null,null,null,"Collaborateurs administratifs et techniques",{"$f":"SUM(H97:H98)","v":{"$error":"#REF!"}},{"$f":"SUM(I97:I98)","v":{"$error":"#REF!"}},{"$error":"#REF!"}]
[null,null,"Proportion d'étudiantes par Faculté",null,null,null,"Collaborateurs administratifs",{"$f":"INDIRECT(ADDRESS($O97+$I$2-INDIRECT(ADDRESS($O97,1,,,$O$81)),$P$81,,,$O$81))","v":{"$error":"#REF!"}},{"$f":"H97-J97","v":{"$error":"#REF!"}},{"$f":"INDIRECT(ADDRESS($P$84+$I$2-INDIRECT(ADDRESS($P$84,1,,,$P$83)),$P97,,,$P$83))","v":{"$error":"#REF!"}},null,null,null,null,{"$f":"ROW(#REF!)","v":{"$error":"#REF!"}},{"$f":"COLUMN(#REF!)","v":{"$error":"#REF!"}}]
[null,{"$f":"INDIRECT(ADDRESS(U$5+$H$2-INDIRECT(ADDRESS(U$5,1,,,$O$102)),$P7,,,$O$102))/INDIRECT(ADDRESS(U$5+$H$2-INDIRECT(ADDRESS(U$5,1,,,$O$5)),$P7,,,$O$5))","v":{"$error":"#REF!"}},"SB",null,null,null,"Collaborateurs techniques",{"$f":"INDIRECT(ADDRESS($O98+$I$2-INDIRECT(ADDRESS($O98,1,,,$O$81)),$P$81,,,$O$81))","v":{"$error":"#REF!"}},{"$error":"#REF!"},{"$f":"INDIRECT(ADDRESS($P$84+$I$2-INDIRECT(ADDRESS($P$84,1,,,$P$83)),$P98,,,$P$83))","v":{"$error":"#REF!"}},null,null,null,null,{"$f":"ROW(#REF!)","v":{"$error":"#REF!"}},{"$f":"COLUMN(#REF!)","v":{"$error":"#REF!"}}]
[null,{"$f":"INDIRECT(ADDRESS(U$5+$H$2-INDIRECT(ADDRESS(U$5,1,,,$O$102)),$P12,,,$O$102))/INDIRECT(ADDRESS(U$5+$H$2-INDIRECT(ADDRESS(U$5,1,,,$O$5)),$P12,,,$O$5))","v":{"$error":"#REF!"}},"SV"]
[null,{"$f":"INDIRECT(ADDRESS(U$5+$H$2-INDIRECT(ADDRESS(U$5,1,,,$O$102)),$P14,,,$O$102))/INDIRECT(ADDRESS(U$5+$H$2-INDIRECT(ADDRESS(U$5,1,,,$O$5)),$P14,,,$O$5))","v":{"$error":"#REF!"}},"STI",null,null,null,"Total",{"$f":"H$84+H$90+H$96","v":{"$error":"#REF!"}},{"$f":"I$84+I$90+I$96","v":{"$error":"#REF!"}},{"$f":"J$84+J$90+J$96","v":{"$error":"#REF!"}}]
[null,{"$f":"INDIRECT(ADDRESS(U$5+$H$2-INDIRECT(ADDRESS(U$5,1,,,$O$102)),$P20,,,$O$102))/INDIRECT(ADDRESS(U$5+$H$2-INDIRECT(ADDRESS(U$5,1,,,$O$5)),$P20,,,$O$5))","v":{"$error":"#REF!"}},"IC",null,null,null,null,"Pourcentage:",{"$f":"I$100/$H$100","v":{"$error":"#REF!"}},{"$f":"J$100/$H$100","v":{"$error":"#REF!"}}]
[null,{"$f":"INDIRECT(ADDRESS(U$5+$H$2-INDIRECT(ADDRESS(U$5,1,,,$O$102)),$P24,,,$O$102))/INDIRECT(ADDRESS(U$5+$H$2-INDIRECT(ADDRESS(U$5,1,,,$O$5)),$P24,,,$O$5))","v":{"$error":"#REF!"}},"ENAC",null,null,null,null,null,null,null,null,null,null,null,"dont étudiantes"]
[null,{"$f":"INDIRECT(ADDRESS(U$5+$H$2-INDIRECT(ADDRESS(U$5,1,,,$O$102)),$P29,,,$O$102))/INDIRECT(ADDRESS(U$5+$H$2-INDIRECT(ADDRESS(U$5,1,,,$O$5)),$P29,,,$O$5))","v":{"$error":"#REF!"}},"CdM",null,null,null,null,null,null,null,null,null,null,null,"Pers. femmes"]
[null,null,null,null,null,null,"Dépenses (kCHF) - page 10"]
[null,null,"Evolution du pourcentage d'étudiantes",null,null,null,null,null,null,null,null,null,null,null,"Finances d",{"$f":"ROW(#REF!)","v":{"$error":"#REF!"}},{"$f":"ROW(#REF!)","v":{"$error":"#REF!"}},{"$f":"ROW(#REF!)","v":{"$error":"#REF!"}},{"$f":"ROW(#REF!)","v":{"$error":"#REF!"}},{"$f":"ROW(#REF!)","v":{"$error":"#REF!"}}]
[null,{"$f":"INDIRECT(ADDRESS(U$5+$C106-INDIRECT(ADDRESS(U$5,1,,,$O$102)),$P$37,,,$O$102))/INDIRECT(ADDRESS(U$5+$C106-INDIRECT(ADDRESS(U$5,1,,,$O$5)),$P$37,,,$O$5))","v":{"$error":"#REF!"}},1982,null,null,null,{"$f":"$J$2","v":2017},"Personnel","Exploitation","Investissements","Total","Financement de tiers"]
[null,{"$f":"INDIRECT(ADDRESS(U$5+$C107-INDIRECT(ADDRESS(U$5,1,,,$O$102)),$P$37,,,$O$102))/INDIRECT(ADDRESS(U$5+$C107-INDIRECT(ADDRESS(U$5,1,,,$O$5)),$P$37,,,$O$5))","v":{"$error":"#REF!"}},1992,null,null,null,"Faculté des sciences de base (SB)",{"$f":"INDIRECT(ADDRESS(P$105+$J$2-INDIRECT(ADDRESS(P$105,1,,,$O$105)),$P7,,,$O$105))","v":{"$error":"#REF!"}},{"$error":"#REF!"},{"$error":"#REF!"},{"$error":"#REF!"},{"$error":"#REF!"}]
[null,{"$f":"INDIRECT(ADDRESS(U$5+$C108-INDIRECT(ADDRESS(U$5,1,,,$O$102)),$P$37,,,$O$102))/INDIRECT(ADDRESS(U$5+$C108-INDIRECT(ADDRESS(U$5,1,,,$O$5)),$P$37,,,$O$5))","v":{"$error":"#REF!"}},2002,null,null,null,"Mathématiques",{"$error":"#REF!"},{"$error":"#REF!"},{"$error":"#REF!"},{"$error":"#REF!"},{"$error":"#REF!"}]
[null,{"$f":"INDIRECT(ADDRESS(U$5+$C109-INDIRECT(ADDRESS(U$5,1,,,$O$102)),$P$37,,,$O$102))/INDIRECT(ADDRESS(U$5+$C109-INDIRECT(ADDRESS(U$5,1,,,$O$5)),$P$37,,,$O$5))","v":{"$error":"#REF!"}},{"$f":"$H$2","v":2017},null,null,null,"Physique",{"$error":"#REF!"},{"$error":"#REF!"},{"$error":"#REF!"},{"$error":"#REF!"},{"$error":"#REF!"}]
[null,null,null,null,null,null,"Chimie et génie chimique",{"$error":"#REF!"},{"$error":"#REF!"},{"$error":"#REF!"},{"$error":"#REF!"},{"$error":"#REF!"}]
[null,null,"Femmes professeurs EPT (%)"]
[null,{"$f":"INDIRECT(ADDRESS($O85+$I$2-INDIRECT(ADDRESS($O85,1,,,$O$103)),P$81,,,$O$103))/$H$85","v":{"$error":"#REF!"}},"Ordinaire",null,null,null,"Faculté des sciences de la vie (SV)",{"$f":"INDIRECT(ADDRESS(P$105+$J$2-INDIRECT(ADDRESS(P$105,1,,,$O$105)),$P12,,,$O$105))","v":{"$error":"#REF!"}},{"$f":"INDIRECT(ADDRESS(Q$105+$J$2-INDIRECT(ADDRESS(Q$105,1,,,$O$105)),$P12,,,$O$105))","v":{"$error":"#REF!"}},{"$f":"INDIRECT(ADDRESS(R$105+$J$2-INDIRECT(ADDRESS(R$105,1,,,$O$105)),$P12,,,$O$105))","v":{"$error":"#REF!"}},{"$f":"INDIRECT(ADDRESS(S$105+$J$2-INDIRECT(ADDRESS(S$105,1,,,$O$105)),$P12,,,$O$105))","v":{"$error":"#REF!"}},{"$f":"INDIRECT(ADDRESS(T$105+$J$2-INDIRECT(ADDRESS(T$105,1,,,$O$105)),$P12,,,$O$105))","v":{"$error":"#REF!"}}]
[null,{"$f":"INDIRECT(ADDRESS($O86+$I$2-INDIRECT(ADDRESS($O86,1,,,$O$103)),P$81,,,$O$103))/$H$86","v":{"$error":"#REF!"}},"Associée"]
[null,{"$f":"INDIRECT(ADDRESS($O87+$I$2-INDIRECT(ADDRESS($O87,1,,,$O$103)),P$81,,,$O$103))/$H$87","v":{"$error":"#REF!"}},"PATT",null,null,null,"Faculté des sciences et techniques de l’ingénieur (STI)",{"$f":"INDIRECT(ADDRESS(P$105+$J$2-INDIRECT(ADDRESS(P$105,1,,,$O$105)),$P14,,,$O$105))","v":{"$error":"#REF!"}},{"$error":"#REF!"},{"$error":"#REF!"},{"$error":"#REF!"},{"$error":"#REF!"}]
[null,{"$f":"INDIRECT(ADDRESS($O88+$I$2-INDIRECT(ADDRESS($O88,1,,,$O$103)),P$81,,,$O$103))/$H$88","v":{"$error":"#REF!"}},"PBFN",null,null,null,"Science et génie des matériaux ",{"$error":"#REF!"},{"$error":"#REF!"},{"$error":"#REF!"},{"$error":"#REF!"},{"$error":"#REF!"}]
[null,null,null,null,null,null,"Génie mécanique",{"$error":"#REF!"},{"$error":"#REF!"},{"$error":"#REF!"},{"$error":"#REF!"},{"$error":"#REF!"}]
[null,"Personnel par catégorie (EPT) - page 8",null,null,null,null,"Microtechnique",{"$error":"#REF!"},{"$error":"#REF!"},{"$error":"#REF!"},{"$error":"#REF!"},{"$error":"#REF!"}]
[null,null,null,null,null,null,"Génie électrique et électronique",{"$error":"#REF!"},{"$error":"#REF!"},{"$error":"#REF!"},{"$error":"#REF!"},{"$error":"#REF!"}]
[null,{"$f":"FIXED($H$96,1)&\" / \"&FIXED($H$96/$H$100*100,1)&\"%\"","v":{"$error":"#REF!"}},"Collaborateurs administratifs et techniques"]
[null,{"$f":"FIXED($H$90,1)&\" / \"&FIXED($H$90/$H$100*100,1)&\"%\"","v":{"$error":"#REF!"}},"Corps intermédiaire",null,null,null,"Faculté informatique et communications (IC)",{"$f":"INDIRECT(ADDRESS(P$105+$J$2-INDIRECT(ADDRESS(P$105,1,,,$O$105)),$P20,,,$O$105))","v":{"$error":"#REF!"}},{"$error":"#REF!"},{"$error":"#REF!"},{"$error":"#REF!"},{"$error":"#REF!"}]
[null,{"$f":"FIXED($H$84,1)&\" / \"&FIXED($H$84/$H$100*100,1)&\"%\"","v":{"$error":"#REF!"}},"Professeurs",null,null,null,"Systèmes de communication ",{"$error":"#REF!"},{"$error":"#REF!"},{"$error":"#REF!"},{"$error":"#REF!"},{"$error":"#REF!"}]
[null,null,null,null,null,null,"Informatique",{"$error":"#REF!"},{"$error":"#REF!"},{"$error":"#REF!"},{"$error":"#REF!"},{"$error":"#REF!"},null,null,null,null,"Finances d"]
[null,"Dépenses par source de financement (kCHF) - page 9",null,null,null,null,null,null,null,null,null,null,null,null,null,null,{"$f":"ROW(#REF!)","v":{"$error":"#REF!"}},{"$f":"COLUMN(#REF!)","v":{"$error":"#REF!"}}]
[null,null,null,null,null,null,"Faculté d’environnement naturel, architectural et construit (ENAC)",{"$f":"INDIRECT(ADDRESS(P$105+$J$2-INDIRECT(ADDRESS(P$105,1,,,$O$105)),$P24,,,$O$105))","v":{"$error":"#REF!"}},{"$error":"#REF!"},{"$error":"#REF!"},{"$error":"#REF!"},{"$error":"#REF!"},null,null,null,null,{"$f":"ROW(#REF!)","v":{"$error":"#REF!"}}]
[null,{"$f":"INDIRECT(ADDRESS($Q123+$J$2-INDIRECT(ADDRESS($Q123,1,,,$Q$122)),$R$123,,,$Q$122))","v":{"$error":"#REF!"}},"Total",null,null,null,"Sciences et ingénierie de l’environnement",{"$error":"#REF!"},{"$error":"#REF!"},{"$error":"#REF!"},{"$error":"#REF!"},{"$error":"#REF!"},null,null,null,null,{"$f":"ROW(#REF!)","v":{"$error":"#REF!"}}]
[null,{"$f":"INDIRECT(ADDRESS($Q124+$J$2-INDIRECT(ADDRESS($Q124,1,,,$Q$122)),$R$123,,,$Q$122))-B133","v":{"$error":"#REF!"}},"Budget fédéral (sans recettes centrales)",null,null,null,"Génie civil",{"$error":"#REF!"},{"$error":"#REF!"},{"$error":"#REF!"},{"$error":"#REF!"},{"$error":"#REF!"},null,null,null,null,{"$f":"ROW(#REF!)","v":{"$error":"#REF!"}}]
[null,{"$f":"INDIRECT(ADDRESS($Q125+$J$2-INDIRECT(ADDRESS($Q125,1,,,$Q$122)),$R$123,,,$Q$122))","v":{"$error":"#REF!"}},"Mandats",null,null,null,"Architecture",{"$error":"#REF!"},{"$error":"#REF!"},{"$error":"#REF!"},{"$error":"#REF!"},{"$error":"#REF!"},null,null,null,null,{"$f":"ROW(#REF!)","v":{"$error":"#REF!"}}]
[null,{"$error":"#REF!"},"Secteur public",null,null,null,null,null,null,null,null,null,null,null,null,null,{"$f":"ROW(#REF!)","v":{"$error":"#REF!"}}]
[null,{"$error":"#REF!"},"Programmes européens",null,null,null,"Collège du management de la technologie (CdM)",{"$f":"INDIRECT(ADDRESS(P$105+$J$2-INDIRECT(ADDRESS(P$105,1,,,$O$105)),$P29,,,$O$105))","v":{"$error":"#REF!"}},{"$error":"#REF!"},{"$error":"#REF!"},{"$error":"#REF!"},{"$error":"#REF!"},null,null,null,null,{"$f":"ROW(#REF!)","v":{"$error":"#REF!"}}]
[null,{"$error":"#REF!"},"CTI",null,null,null,"Management de la technologie",{"$error":"#REF!"},{"$error":"#REF!"},{"$error":"#REF!"},{"$error":"#REF!"},{"$error":"#REF!"},null,null,null,null,{"$f":"ROW(#REF!)","v":{"$error":"#REF!"}}]
[null,{"$error":"#REF!"},"Fonds national",null,null,null,"Ingénierie financière",{"$error":"#REF!"},{"$error":"#REF!"},{"$error":"#REF!"},{"$error":"#REF!"},{"$error":"#REF!"},null,null,null,null,{"$f":"ROW(#REF!)","v":{"$error":"#REF!"}},{"$f":"COLUMN(#REF!)","v":{"$error":"#REF!"}}]
[null,{"$error":"#REF!"},"Autres",null,null,null,null,null,null,null,null,null,null,null,null,null,"Divers"]
[null,{"$f":"INDIRECT(ADDRESS($Q131+$J$2-INDIRECT(ADDRESS($Q131,1,,,$Q$132)),$R$131,,,$Q$132))","v":{"$error":"#REF!"}},"Recettes internes",null,null,null,"Collège des humanités (CdH)",{"$f":"INDIRECT(ADDRESS(P$105+$J$2-INDIRECT(ADDRESS(P$105,1,,,$O$105)),$P$33,,,$O$105))","v":{"$error":"#REF!"}},{"$f":"INDIRECT(ADDRESS(Q$105+$J$2-INDIRECT(ADDRESS(Q$105,1,,,$O$105)),$P$33,,,$O$105))","v":{"$error":"#REF!"}},{"$f":"INDIRECT(ADDRESS(R$105+$J$2-INDIRECT(ADDRESS(R$105,1,,,$O$105)),$P$33,,,$O$105))","v":{"$error":"#REF!"}},{"$f":"INDIRECT(ADDRESS(S$105+$J$2-INDIRECT(ADDRESS(S$105,1,,,$O$105)),$P$33,,,$O$105))","v":{"$error":"#REF!"}},{"$f":"INDIRECT(ADDRESS(T$105+$J$2-INDIRECT(ADDRESS(T$105,1,,,$O$105)),$P$33,,,$O$105))","v":{"$error":"#REF!"}}]
[]
[null,"Dépenses par secteur (kCHF) - page 9",null,null,null,null,"Entités  transdisciplinaires (ENT)",{"$f":"INDIRECT(ADDRESS(P$105+$J$2-INDIRECT(ADDRESS(P$105,1,,,$O$105)),$P$38,,,$O$105))","v":{"$error":"#REF!"}},{"$f":"INDIRECT(ADDRESS(Q$105+$J$2-INDIRECT(ADDRESS(Q$105,1,,,$O$105)),$P$38,,,$O$105))","v":{"$error":"#REF!"}},{"$f":"INDIRECT(ADDRESS(R$105+$J$2-INDIRECT(ADDRESS(R$105,1,,,$O$105)),$P$38,,,$O$105))","v":{"$error":"#REF!"}},{"$f":"INDIRECT(ADDRESS(S$105+$J$2-INDIRECT(ADDRESS(S$105,1,,,$O$105)),$P$38,,,$O$105))","v":{"$error":"#REF!"}},{"$f":"INDIRECT(ADDRESS(T$105+$J$2-INDIRECT(ADDRESS(T$105,1,,,$O$105)),$P$38,,,$O$105))","v":{"$error":"#REF!"}}]
[]
[null,{"$f":"$H$141","v":{"$error":"#REF!"}},"Personnel",null,null,null,"Services centraux",{"$f":"INDIRECT(ADDRESS(P$105+$J$2-INDIRECT(ADDRESS(P$105,1,,,$O$105)),$P$39,,,$O$105))+INDIRECT(ADDRESS(P$105+$J$2-INDIRECT(ADDRESS(P$105,1,,,$O$105)),$P$35,,,$O$105))-H$139","v":{"$error":"#REF!"}},{"$f":"INDIRECT(ADDRESS(Q$105+$J$2-INDIRECT(ADDRESS(Q$105,1,,,$O$105)),$P$39,,,$O$105))+INDIRECT(ADDRESS(Q$105+$J$2-INDIRECT(ADDRESS(Q$105,1,,,$O$105)),$P$35,,,$O$105))-I$139","v":{"$error":"#REF!"}},{"$f":"INDIRECT(ADDRESS(R$105+$J$2-INDIRECT(ADDRESS(R$105,1,,,$O$105)),$P$39,,,$O$105))+INDIRECT(ADDRESS(R$105+$J$2-INDIRECT(ADDRESS(R$105,1,,,$O$105)),$P$35,,,$O$105))-J$139","v":{"$error":"#REF!"}},{"$f":"INDIRECT(ADDRESS(S$105+$J$2-INDIRECT(ADDRESS(S$105,1,,,$O$105)),$P$39,,,$O$105))+INDIRECT(ADDRESS(S$105+$J$2-INDIRECT(ADDRESS(S$105,1,,,$O$105)),$P$35,,,$O$105))-K$139","v":{"$error":"#REF!"}},{"$f":"INDIRECT(ADDRESS(T$105+$J$2-INDIRECT(ADDRESS(T$105,1,,,$O$105)),$P$39,,,$O$105))+INDIRECT(ADDRESS(T$105+$J$2-INDIRECT(ADDRESS(T$105,1,,,$O$105)),$P$35,,,$O$105))-L$139","v":{"$error":"#REF!"}}]
[null,{"$f":"$I$141","v":{"$error":"#REF!"}},"Exploitation"]
[null,{"$f":"$J$141-$J$139","v":{"$error":"#REF!"}},"Investissements (hors construction)",null,null,null,"Constructions",null,null,{"$f":"INDIRECT(ADDRESS($Q143+$J$2-INDIRECT(ADDRESS($Q143,1,,,$Q$132)),$R$143,,,$Q$132))","v":{"$error":"#REF!"}},{"$f":"J139","v":{"$error":"#REF!"}},{"$f":"INDIRECT(ADDRESS($Q143+$J$2-INDIRECT(ADDRESS($Q143,1,,,$Q$132)),$S$143,,,$Q$132))","v":{"$error":"#REF!"}},null,"y.c. EME"]
[null,{"$f":"$J$139","v":{"$error":"#REF!"}},"Constructions"]
[null,{"$f":"SUM(B137:B140)","v":{"$error":"#REF!"}},"Total",null,null,null,"Total",{"$f":"SUM(H$107,H$112,H$114,H$120,H$124,H$129,H$133,H$135,H$137,H$139)","v":{"$error":"#REF!"}},{"$f":"SUM(I$107,I$112,I$114,I$120,I$124,I$129,I$133,I$135,I$137,I$139)","v":{"$error":"#REF!"}},{"$f":"SUM(J$107,J$112,J$114,J$120,J$124,J$129,J$133,J$135,J$137,J$139)","v":{"$error":"#REF!"}},{"$f":"SUM(K$107,K$112,K$114,K$120,K$124,K$129,K$133,K$135,K$137,K$139)","v":{"$error":"#REF!"}},{"$f":"SUM(L$107,L$112,L$114,L$120,L$124,L$129,L$133,L$135,L$137,L$139)","v":{"$error":"#REF!"}}]
[]
[null,"Recherche - page 11",null,null,null,null,null,null,null,null,null,null,null,null,null,null,{"$f":"ROW(#REF!)","v":{"$error":"#REF!"}},{"$f":"COLUMN(#REF!)","v":{"$error":"#REF!"}},{"$f":"COLUMN(#REF!)","v":{"$error":"#REF!"}}]
[]
[null,"Europe",null,null,null,null,"Tech Transfer - page 12",null,null,null,null,null,null,null,null,null,"Divers",null,2003]
[null,{"$f":"IF($K$2<$S$145,\"NA\",INDIRECT(ADDRESS($R$146+$K$2-INDIRECT(ADDRESS($R$146,1,,,$Q$145)),$Q146,,,$Q$145)))","v":{"$error":"#REF!"}},"QS  (engineering)",null,null,null,null,null,null,null,null,null,null,null,null,null,{"$f":"COLUMN(#REF!)","v":{"$error":"#REF!"}},{"$f":"ROW(#REF!)","v":{"$error":"#REF!"}}]
[null,{"$error":"#REF!"},"THE (engineering)",null,null,null,{"$f":"$L$2","v":2017},"Annonces inventions","Brevets déposés","Licences accordées","Start-Up",null,null,null,"TT",1999,{"$f":"COLUMN(#REF!)","v":{"$error":"#REF!"}},{"$f":"ROW(#REF!)","v":{"$error":"#REF!"}}]
[null,{"$error":"#REF!"},"QS Global",null,null,null,"Faculté des sciences de base (SB)",{"$f":"IF($L$2<$P$147,\"NA\",INDIRECT(ADDRESS($O$148+$L$2-INDIRECT(ADDRESS($O$148,1,,,$O$147)),$P$7,,,$O$147)))","v":{"$error":"#REF!"}},{"$f":"IF($L$2<$P$147,\"NA\",INDIRECT(ADDRESS($O$149+$L$2-INDIRECT(ADDRESS($O$149,1,,,$O$147)),$P$7,,,$O$147)))","v":{"$error":"#REF!"}},{"$f":"IF($L$2<$P$147,\"NA\",INDIRECT(ADDRESS($O$150+$L$2-INDIRECT(ADDRESS($O$150,1,,,$O$147)),$P$7,,,$O$147)))","v":{"$error":"#REF!"}},{"$f":"IF($L$2<$P$147,\"NA\",INDIRECT(ADDRESS($O$151+$L$2-INDIRECT(ADDRESS($O$151,1,,,$O$147)),$P$7,,,$O$147)))","v":{"$error":"#REF!"}},null,null,null,{"$f":"ROW(#REF!)","v":{"$error":"#REF!"}},null,{"$f":"COLUMN(#REF!)","v":{"$error":"#REF!"}}]
[null,{"$error":"#REF!"},"ARWU (engineering)",null,null,null,"Faculté des sciences de la vie (SV)",{"$f":"IF($L$2<$P$147,\"NA\",INDIRECT(ADDRESS($O$148+$L$2-INDIRECT(ADDRESS($O$148,1,,,$O$147)),$P$12,,,$O$147)))","v":{"$error":"#REF!"}},{"$f":"IF($L$2<$P$147,\"NA\",INDIRECT(ADDRESS($O$149+$L$2-INDIRECT(ADDRESS($O$149,1,,,$O$147)),$P$12,,,$O$147)))","v":{"$error":"#REF!"}},{"$f":"IF($L$2<$P$147,\"NA\",INDIRECT(ADDRESS($O$150+$L$2-INDIRECT(ADDRESS($O$150,1,,,$O$147)),$P$12,,,$O$147)))","v":{"$error":"#REF!"}},{"$f":"IF($L$2<$P$147,\"NA\",INDIRECT(ADDRESS($O$151+$L$2-INDIRECT(ADDRESS($O$151,1,,,$O$147)),$P$12,,,$O$147)))","v":{"$error":"#REF!"}},null,null,null,{"$f":"ROW(#REF!)","v":{"$error":"#REF!"}},null,{"$f":"COLUMN(#REF!)","v":{"$error":"#REF!"}}]
[null,{"$error":"#REF!"},"Leiden",null,null,null,"Faculté des sciences et techniques de l’ingénieur (STI)",{"$f":"IF($L$2<$P$147,\"NA\",INDIRECT(ADDRESS($O$148+$L$2-INDIRECT(ADDRESS($O$148,1,,,$O$147)),$P$14,,,$O$147)))","v":{"$error":"#REF!"}},{"$f":"IF($L$2<$P$147,\"NA\",INDIRECT(ADDRESS($O$149+$L$2-INDIRECT(ADDRESS($O$149,1,,,$O$147)),$P$14,,,$O$147)))","v":{"$error":"#REF!"}},{"$f":"IF($L$2<$P$147,\"NA\",INDIRECT(ADDRESS($O$150+$L$2-INDIRECT(ADDRESS($O$150,1,,,$O$147)),$P$14,,,$O$147)))","v":{"$error":"#REF!"}},{"$f":"IF($L$2<$P$147,\"NA\",INDIRECT(ADDRESS($O$151+$L$2-INDIRECT(ADDRESS($O$151,1,,,$O$147)),$P$14,,,$O$147)))","v":{"$error":"#REF!"}},null,null,null,{"$f":"ROW(#REF!)","v":{"$error":"#REF!"}},null,{"$f":"COLUMN(#REF!)","v":{"$error":"#REF!"}}]
[null,{"$error":"#REF!"},"THE ",null,null,null,"Faculté informatique et communications (IC)",{"$f":"IF($L$2<$P$147,\"NA\",INDIRECT(ADDRESS($O$148+$L$2-INDIRECT(ADDRESS($O$148,1,,,$O$147)),$P$20,,,$O$147)))","v":{"$error":"#REF!"}},{"$f":"IF($L$2<$P$147,\"NA\",INDIRECT(ADDRESS($O$149+$L$2-INDIRECT(ADDRESS($O$149,1,,,$O$147)),$P$20,,,$O$147)))","v":{"$error":"#REF!"}},{"$f":"IF($L$2<$P$147,\"NA\",INDIRECT(ADDRESS($O$150+$L$2-INDIRECT(ADDRESS($O$150,1,,,$O$147)),$P$20,,,$O$147)))","v":{"$error":"#REF!"}},{"$f":"IF($L$2<$P$147,\"NA\",INDIRECT(ADDRESS($O$151+$L$2-INDIRECT(ADDRESS($O$151,1,,,$O$147)),$P$20,,,$O$147)))","v":{"$error":"#REF!"}},null,null,null,{"$f":"ROW(#REF!)","v":{"$error":"#REF!"}},null,{"$f":"COLUMN(#REF!)","v":{"$error":"#REF!"}}]
[null,"Monde",null,null,null,null,"Faculté d’environnement naturel, architectural et construit (ENAC)",{"$f":"IF($L$2<$P$147,\"NA\",INDIRECT(ADDRESS($O$148+$L$2-INDIRECT(ADDRESS($O$148,1,,,$O$147)),$P$24,,,$O$147)))","v":{"$error":"#REF!"}},{"$f":"IF($L$2<$P$147,\"NA\",INDIRECT(ADDRESS($O$149+$L$2-INDIRECT(ADDRESS($O$149,1,,,$O$147)),$P$24,,,$O$147)))","v":{"$error":"#REF!"}},{"$f":"IF($L$2<$P$147,\"NA\",INDIRECT(ADDRESS($O$150+$L$2-INDIRECT(ADDRESS($O$150,1,,,$O$147)),$P$24,,,$O$147)))","v":{"$error":"#REF!"}},{"$f":"IF($L$2<$P$147,\"NA\",INDIRECT(ADDRESS($O$151+$L$2-INDIRECT(ADDRESS($O$151,1,,,$O$147)),$P$24,,,$O$147)))","v":{"$error":"#REF!"}}]
[null,{"$f":"IF($K$2<$S$145,\"NA\",INDIRECT(ADDRESS($R$147+$K$2-INDIRECT(ADDRESS($R$147,1,,,$Q$145)),$Q146,,,$Q$145)))","v":{"$error":"#REF!"}},"QS  (engineering)",null,null,null,"Collège du management de la technologie (CdM)",{"$f":"IF($L$2<$P$147,\"NA\",INDIRECT(ADDRESS($O$148+$L$2-INDIRECT(ADDRESS($O$148,1,,,$O$147)),$P$29,,,$O$147)))","v":{"$error":"#REF!"}},{"$f":"IF($L$2<$P$147,\"NA\",INDIRECT(ADDRESS($O$149+$L$2-INDIRECT(ADDRESS($O$149,1,,,$O$147)),$P$29,,,$O$147)))","v":{"$error":"#REF!"}},{"$f":"IF($L$2<$P$147,\"NA\",INDIRECT(ADDRESS($O$150+$L$2-INDIRECT(ADDRESS($O$150,1,,,$O$147)),$P$29,,,$O$147)))","v":{"$error":"#REF!"}},{"$f":"IF($L$2<$P$147,\"NA\",INDIRECT(ADDRESS($O$151+$L$2-INDIRECT(ADDRESS($O$151,1,,,$O$147)),$P$29,,,$O$147)))","v":{"$error":"#REF!"}}]
[null,{"$error":"#REF!"},"THE (engineering)",null,null,null,"Collège des humanités (CdH)",{"$f":"IF($L$2<$P$147,\"NA\",INDIRECT(ADDRESS($O$148+$L$2-INDIRECT(ADDRESS($O$148,1,,,$O$147)),$P$33,,,$O$147)))","v":{"$error":"#REF!"}},{"$f":"IF($L$2<$P$147,\"NA\",INDIRECT(ADDRESS($O$149+$L$2-INDIRECT(ADDRESS($O$149,1,,,$O$147)),$P$33,,,$O$147)))","v":{"$error":"#REF!"}},{"$f":"IF($L$2<$P$147,\"NA\",INDIRECT(ADDRESS($O$150+$L$2-INDIRECT(ADDRESS($O$150,1,,,$O$147)),$P$33,,,$O$147)))","v":{"$error":"#REF!"}},{"$f":"IF($L$2<$P$147,\"NA\",INDIRECT(ADDRESS($O$151+$L$2-INDIRECT(ADDRESS($O$151,1,,,$O$147)),$P$33,,,$O$147)))","v":{"$error":"#REF!"}}]
[null,{"$error":"#REF!"},"QS Global",null,null,null,"Services centraux (y compris ENT)",{"$f":"IF($L$2<$P$147,\"NA\",INDIRECT(ADDRESS($O$148+$L$2-INDIRECT(ADDRESS($O$148,1,,,$O$147)),$P$39,,,$O$147))+INDIRECT(ADDRESS($O$148+$L$2-INDIRECT(ADDRESS($O$148,1,,,$O$147)),$P$38,,,$O$147)))","v":{"$error":"#REF!"}},{"$f":"IF($L$2<$P$147,\"NA\",INDIRECT(ADDRESS($O$149+$L$2-INDIRECT(ADDRESS($O$149,1,,,$O$147)),$P$39,,,$O$147))+INDIRECT(ADDRESS($O$149+$L$2-INDIRECT(ADDRESS($O$149,1,,,$O$147)),$P$38,,,$O$147)))","v":{"$error":"#REF!"}},{"$f":"IF($L$2<$P$147,\"NA\",INDIRECT(ADDRESS($O$150+$L$2-INDIRECT(ADDRESS($O$150,1,,,$O$147)),$P$39,,,$O$147))+INDIRECT(ADDRESS($O$150+$L$2-INDIRECT(ADDRESS($O$150,1,,,$O$147)),$P$38,,,$O$147)))","v":{"$error":"#REF!"}},{"$f":"IF($L$2<$P$147,\"NA\",INDIRECT(ADDRESS($O$151+$L$2-INDIRECT(ADDRESS($O$151,1,,,$O$147)),$P$39,,,$O$147))+INDIRECT(ADDRESS($O$151+$L$2-INDIRECT(ADDRESS($O$151,1,,,$O$147)),$P$38,,,$O$147)))","v":{"$error":"#REF!"}}]
[null,{"$error":"#REF!"},"ARWU (engineering)",null,null,null,"Total",{"$f":"SUM(H148:H155)","v":{"$error":"#REF!"}},{"$f":"SUM(I148:I155)","v":{"$error":"#REF!"}},{"$f":"SUM(J148:J155)","v":{"$error":"#REF!"}},{"$f":"SUM(K148:K155)","v":{"$error":"#REF!"}}]
[null,{"$error":"#REF!"},"Leiden"]
[null,{"$error":"#REF!"},"THE "]
[null,null,null,null,null,null,"Environnement - page 13 (modifié)"]
[null,"Classement de l'EPFL au ranking QS"]
[null,"Europe",null,null,null,null,"Total émissions de CO2"]
[null,{"$f":"IF($K$2<$S$145,\"NA\",INDIRECT(ADDRESS($R$146+$C$162-INDIRECT(ADDRESS($R$146,1,,,$Q$145)),$Q$148,,,$Q$145)))","v":{"$error":"#REF!"}},2007,null,null,null,null,null,null,null,null,null,null,null,"Divers",2010]
[null,{"$f":"IF($K$2<$S$145,\"NA\",INDIRECT(ADDRESS($R$146+$C$163-INDIRECT(ADDRESS($R$146,1,,,$Q$145)),$Q$148,,,$Q$145)))","v":{"$error":"#REF!"}},{"$f":"$K$2","v":2017},null,null,null,null,{"$f":"$L$2-1","v":2016},{"$f":"$L$2","v":2017},null,null,null,null,null,{"$f":"ROW(#REF!)","v":{"$error":"#REF!"}}]
[null,"Monde",null,null,null,null,"Electricité",{"$f":"IF($H$163<$P$162,\"NA\",INDIRECT(ADDRESS($O$163+$H$163-INDIRECT(ADDRESS($O$163,1,,,$O$162)),$O164,,,$O$162)))","v":{"$error":"#REF!"}},{"$f":"IF($I$163<$P$162,\"NA\",INDIRECT(ADDRESS($O$163+$I$163-INDIRECT(ADDRESS($O$163,1,,,$O$162)),$O164,,,$O$162)))","v":{"$error":"#REF!"}},null,null,null,null,null,{"$f":"COLUMN(#REF!)","v":{"$error":"#REF!"}}]
[null,{"$f":"IF($K$2<$S$145,\"NA\",INDIRECT(ADDRESS($R$147+$C$165-INDIRECT(ADDRESS($R$147,1,,,$Q$145)),$Q$148,,,$Q$145)))","v":{"$error":"#REF!"}},2007,null,null,null,"Mazout",{"$f":"IF($H$163<$P$162,\"NA\",INDIRECT(ADDRESS($O$163+$H$163-INDIRECT(ADDRESS($O$163,1,,,$O$162)),$O165,,,$O$162)))","v":{"$error":"#REF!"}},{"$f":"IF($I$163<$P$162,\"NA\",INDIRECT(ADDRESS($O$163+$I$163-INDIRECT(ADDRESS($O$163,1,,,$O$162)),$O165,,,$O$162)))","v":{"$error":"#REF!"}},null,null,null,null,null,{"$f":"COLUMN(#REF!)","v":{"$error":"#REF!"}}]
[null,{"$f":"IF($K$2<$S$145,\"NA\",INDIRECT(ADDRESS($R$147+$C$166-INDIRECT(ADDRESS($R$147,1,,,$Q$145)),$Q$148,,,$Q$145)))","v":{"$error":"#REF!"}},{"$f":"$K$2","v":2017},null,null,null,"Gaz",{"$error":"#REF!"},{"$error":"#REF!"},null,null,null,null,null,{"$f":"COLUMN(#REF!)","v":{"$error":"#REF!"}}]
[null,null,null,null,null,null,"Pendularité",{"$error":"#REF!"},{"$error":"#REF!"},null,null,null,null,null,{"$f":"COLUMN(#REF!)","v":{"$error":"#REF!"}}]
[null,"Tech Transfer - page 12",null,null,null,null,"Voyages professionnels",{"$error":"#REF!"},{"$error":"#REF!"},null,null,null,null,null,{"$f":"COLUMN(#REF!)","v":{"$error":"#REF!"}}]
[null,null,null,null,null,null,"Total (tonnes CO2-éq)",{"$f":"SUM(H164:H168)","v":{"$error":"#REF!"}},{"$f":"SUM(I164:I168)","v":{"$error":"#REF!"}},null,null,null,null,null,null,null,"Divers",{"$f":"ROW(#REF!)","v":{"$error":"#REF!"}}]
[null,{"$f":"IF($L$2<$U$7,\"NA\",INDIRECT(ADDRESS($R$169+$L$2-INDIRECT(ADDRESS($R$169,1,,,$Q$169)),$Q$170,,,$Q$169)))","v":{"$error":"#REF!"}},"Grandes entreprises",null,null,null,null,null,null,null,null,null,null,null,null,null,{"$f":"COLUMN(#REF!)","v":{"$error":"#REF!"}}]
[null,{"$f":"IF($L$2<$U$7,\"NA\",INDIRECT(ADDRESS($R$169+$L$2-INDIRECT(ADDRESS($R$169,1,,,$Q$169)),$Q$171,,,$Q$169))+INDIRECT(ADDRESS($R$169+$L$2-INDIRECT(ADDRESS($R$169,1,,,$Q$169)),$R$171,,,$Q$169)))","v":{"$error":"#REF!"}},"Start-up EPFL+PME",null,null,null,null,null,null,null,null,null,null,null,null,null,{"$f":"COLUMN(#REF!)","v":{"$error":"#REF!"}},{"$f":"COLUMN(#REF!)","v":{"$error":"#REF!"}}]
[null,{"$f":"IF($L$2<$U$7,\"NA\",INDIRECT(ADDRESS($R$169+$L$2-INDIRECT(ADDRESS($R$169,1,,,$Q$169)),$Q$172,,,$Q$169)))","v":{"$error":"#REF!"}},"Institutions publiques et fondations",null,null,null,"Bilan énergétique - page 14 (simplifié)",null,null,null,null,null,null,null,null,null,{"$f":"COLUMN(#REF!)","v":{"$error":"#REF!"}}]
[null,{"$f":"$J$156","v":{"$error":"#REF!"}},"Licences et accords de transfert"]
[null,null,null,null,null,null,null,{"$f":"$L$2-1","v":2016},{"$f":"$L$2","v":2017}]
[null,{"$f":"IF($L$2<$U$7,\"NA\",INDIRECT(ADDRESS($R$169+$L$2-INDIRECT(ADDRESS($R$169,1,,,$Q$169)),$Q$175,,,$Q$169)))","v":{"$error":"#REF!"}},{"$f":"\"Contrats industriels traités par le TTO en \"&$L$2&\" (MCHF)\"","v":"Contrats industriels traités par le TTO en 2017 (MCHF)"},null,null,null,"Electricité",{"$f":"IF($H$174<$P$162,\"NA\",INDIRECT(ADDRESS($O$163+$H$174-INDIRECT(ADDRESS($O$163,1,,,$O$162)),$O175,,,$O$162)))","v":{"$error":"#REF!"}},{"$f":"IF($I$174<$P$162,\"NA\",INDIRECT(ADDRESS($O$163+$I$174-INDIRECT(ADDRESS($O$163,1,,,$O$162)),$O175,,,$O$162)))","v":{"$error":"#REF!"}},null,null,null,null,null,{"$f":"COLUMN(#REF!)","v":{"$error":"#REF!"}},null,{"$f":"COLUMN(#REF!)","v":{"$error":"#REF!"}}]
[null,null,null,null,null,null,"Mazout",{"$f":"IF($H$174<$P$162,\"NA\",INDIRECT(ADDRESS($O$163+$H$174-INDIRECT(ADDRESS($O$163,1,,,$O$162)),$O176,,,$O$162)))","v":{"$error":"#REF!"}},{"$f":"IF($I$174<$P$162,\"NA\",INDIRECT(ADDRESS($O$163+$I$174-INDIRECT(ADDRESS($O$163,1,,,$O$162)),$O176,,,$O$162)))","v":{"$error":"#REF!"}},null,null,null,null,null,{"$f":"COLUMN(#REF!)","v":{"$error":"#REF!"}}]
[null,{"$f":"\"Tech Transfer de 1999 à \"&$L$2","v":"Tech Transfer de 1999 à 2017"},null,null,null,null,"Gaz",{"$f":"IF($H$174<$P$162,\"NA\",INDIRECT(ADDRESS($O$163+$H$174-INDIRECT(ADDRESS($O$163,1,,,$O$162)),$O177,,,$O$162)))","v":{"$error":"#REF!"}},{"$f":"IF($I$174<$P$162,\"NA\",INDIRECT(ADDRESS($O$163+$I$174-INDIRECT(ADDRESS($O$163,1,,,$O$162)),$O177,,,$O$162)))","v":{"$error":"#REF!"}},null,null,null,null,null,{"$f":"COLUMN(#REF!)","v":{"$error":"#REF!"}}]
[null,null,null,null,null,null,"Total (MWh)",{"$f":"SUM(H175:H177)","v":{"$error":"#REF!"}},{"$f":"SUM(I175:I177)","v":{"$error":"#REF!"}}]
[null,1999]
[null,{"$f":"IF($B$179<$P$147,\"NA\",INDIRECT(ADDRESS(O$148+$B$179-INDIRECT(ADDRESS(O$148,1,,,$O$147)),$P$40,,,$O$147)))","v":{"$error":"#REF!"}},"Annonces d'invention et logiciel"]
[null,{"$f":"IF($B$179<$P$147,\"NA\",INDIRECT(ADDRESS(O$149+$B$179-INDIRECT(ADDRESS(O$149,1,,,$O$147)),$P$40,,,$O$147)))","v":{"$error":"#REF!"}},"Nouvelles demandes de brevets",null,null,null,"Mobilité professionnelle - nouveau"]
[null,{"$f":"IF($B$179<$P$147,\"NA\",INDIRECT(ADDRESS(O$150+$B$179-INDIRECT(ADDRESS(O$150,1,,,$O$147)),$P$40,,,$O$147)))","v":{"$error":"#REF!"}},"Licences et accords de transfert"]
[null,{"$f":"IF($B$179<$P$147,\"NA\",INDIRECT(ADDRESS(O$151+$B$179-INDIRECT(ADDRESS(O$151,1,,,$O$147)),$P$40,,,$O$147)))","v":{"$error":"#REF!"}},"Start-up",null,null,null,null,{"$f":"$L$2-1","v":2016},{"$f":"$L$2","v":2017}]
[null,{"$f":"IF($B$179=1999,17,IF($B$179>$U$7,INDIRECT(ADDRESS($R$169+$B$179-INDIRECT(ADDRESS($R$169,1,,,$Q$169)),$Q$191,,,$Q$169)),\"NA\"))","v":17},"VC Funding (MCHF)",null,null,null,"Avion",{"$f":"IF($H$183<$P$162,\"NA\",INDIRECT(ADDRESS($O$163+$H$183-INDIRECT(ADDRESS($O$163,1,,,$O$162)),$O184,,,$O$162)))","v":{"$error":"#REF!"}},{"$f":"IF($I$183<$P$162,\"NA\",INDIRECT(ADDRESS($O$163+$I$183-INDIRECT(ADDRESS($O$163,1,,,$O$162)),$O184,,,$O$162)))","v":{"$error":"#REF!"}},null,null,null,null,null,{"$f":"COLUMN(#REF!)","v":{"$error":"#REF!"}}]
[null,null,null,null,null,null,"Train",{"$f":"IF($H$183<$P$162,\"NA\",INDIRECT(ADDRESS($O$163+$H$183-INDIRECT(ADDRESS($O$163,1,,,$O$162)),$O185,,,$O$162)))","v":{"$error":"#REF!"}},{"$f":"IF($I$183<$P$162,\"NA\",INDIRECT(ADDRESS($O$163+$I$183-INDIRECT(ADDRESS($O$163,1,,,$O$162)),$O185,,,$O$162)))","v":{"$error":"#REF!"}},null,null,null,null,null,{"$f":"COLUMN(#REF!)","v":{"$error":"#REF!"}}]
[null,{"$f":"$L$2","v":2017},null,null,null,null,"Voiture",{"$error":"#REF!"},{"$error":"#REF!"},null,null,null,null,null,{"$f":"COLUMN(#REF!)","v":{"$error":"#REF!"}}]
[null,{"$f":"IF($B$186<$P$147,\"NA\",INDIRECT(ADDRESS(O$148+$B$186-INDIRECT(ADDRESS(O$148,1,,,$O$147)),$P$40,,,$O$147)))","v":{"$error":"#REF!"}},"Annonces d'invention et logiciel",null,null,null,"Total (km/EPT)",{"$f":"SUM(H184:H186)","v":{"$error":"#REF!"}},{"$f":"SUM(I184:I186)","v":{"$error":"#REF!"}}]
[null,{"$f":"IF($B$186<$P$147,\"NA\",INDIRECT(ADDRESS(O$149+$B$186-INDIRECT(ADDRESS(O$149,1,,,$O$147)),$P$40,,,$O$147)))","v":{"$error":"#REF!"}},"Nouvelles demandes de brevets"]
[null,{"$f":"IF($B$186<$P$147,\"NA\",INDIRECT(ADDRESS(O$150+$B$186-INDIRECT(ADDRESS(O$150,1,,,$O$147)),$P$40,,,$O$147)))","v":{"$error":"#REF!"}},"Licences et accords de transfert"]
[null,{"$f":"IF($B$186<$P$147,\"NA\",INDIRECT(ADDRESS(O$151+$B$186-INDIRECT(ADDRESS(O$151,1,,,$O$147)),$P$40,,,$O$147)))","v":{"$error":"#REF!"}},"Start-up",null,null,null,"Mobilité pendulaire : part modale - nouveau"]
[null,{"$f":"IF($B$186<$U$7,\"NA\",INDIRECT(ADDRESS($R$169+$B$186-INDIRECT(ADDRESS($R$169,1,,,$Q$169)),$Q$191,,,$Q$169)))","v":{"$error":"#REF!"}},"VC Funding (MCHF)",null,null,null,null,null,null,null,null,null,null,null,null,null,{"$f":"COLUMN(#REF!)","v":{"$error":"#REF!"}}]
[null,null,null,null,null,null,null,{"$f":"$L$2-1","v":2016},{"$f":"$L$2","v":2017}]
[null,null,null,null,null,null,"Transports publics",{"$f":"IF($H$192<$P$162,\"NA\",INDIRECT(ADDRESS($O$163+$H$192-INDIRECT(ADDRESS($O$163,1,,,$O$162)),$O193,,,$O$162)))","v":{"$error":"#REF!"}},{"$f":"IF($I$192<$P$162,\"NA\",INDIRECT(ADDRESS($O$163+$I$192-INDIRECT(ADDRESS($O$163,1,,,$O$162)),$O193,,,$O$162)))","v":{"$error":"#REF!"}},null,null,null,null,null,{"$f":"COLUMN(#REF!)","v":{"$error":"#REF!"}}]
[null,null,null,null,null,null,"Voiture",{"$f":"IF($H$192<$P$162,\"NA\",INDIRECT(ADDRESS($O$163+$H$192-INDIRECT(ADDRESS($O$163,1,,,$O$162)),$O194,,,$O$162)))","v":{"$error":"#REF!"}},{"$f":"IF($I$192<$P$162,\"NA\",INDIRECT(ADDRESS($O$163+$I$192-INDIRECT(ADDRESS($O$163,1,,,$O$162)),$O194,,,$O$162)))","v":{"$error":"#REF!"}},null,null,null,null,null,{"$f":"COLUMN(#REF!)","v":{"$error":"#REF!"}}]
[null,null,null,null,null,null,"Moto / scooter",{"$error":"#REF!"},{"$error":"#REF!"},null,null,null,null,null,{"$f":"COLUMN(#REF!)","v":{"$error":"#REF!"}}]
[null,null,null,null,null,null,"Bicyclette",{"$error":"#REF!"},{"$error":"#REF!"},null,null,null,null,null,{"$f":"COLUMN(#REF!)","v":{"$error":"#REF!"}}]
[null,null,null,null,null,null,"A pied",{"$error":"#REF!"},{"$error":"#REF!"},null,null,null,null,null,{"$f":"COLUMN(#REF!)","v":{"$error":"#REF!"}}]
[null,null,null,null,null,null,"Autre",{"$error":"#REF!"},{"$error":"#REF!"},null,null,null,null,null,{"$f":"COLUMN(#REF!)","v":{"$error":"#REF!"}}]
[null,null,null,null,null,null,"Total",{"$f":"SUM(H193:H198)","v":{"$error":"#REF!"}},{"$f":"SUM(I193:I198)","v":{"$error":"#REF!"}}]

{"sheet":"Finances","index":1,"n_rows":84,"n_cols":7,"rows_kept":84,"cut":false,"hidden":false,"merged":[[0,1,0,5],[19,5,19,6],[20,5,20,6],[15,5,15,6],[16,5,16,6],[17,5,17,6],[18,5,18,6],[11,5,11,6],[12,5,12,6],[13,5,13,6],[14,5,14,6],[42,0,42,6],[3,5,3,6],[4,5,4,6],[5,5,5,6],[6,5,6,6],[7,5,7,6],[8,5,8,6],[9,5,9,6],[10,5,10,6]]}
[null,"        Dépenses annuelles de l'EPFL1 (kCHF)",null,null,null,null,"v 14.02.18"]
[]
[null,"Budget2","Tiers","Total","Personnel","Exploitation","Investissement "]
[1982,167142,23198,190340,101555,{"$f":"D4-E4","v":88785}]
[1983,170176,26026,196202,108120,{"$f":"D5-E5","v":88082}]
[1984,191299,27876,219175,112701,106474]
[1985,234124,31830,265954,122195,143759]
[1986,248395,34422,282817,132438,150379]
[1987,276931,47224,324155,143114,181041]
[1988,312360,47166,359526,162876,196650]
[1989,305851,55505,361356,179749,181607]
[1990,330347,65051,395398,204258,191140]
[1991,331640,76198.399999999994,407838.4,217228,190610.40000000002]
[1992,337893,77849,415742,236144,179598]
[1993,349156,83051.399999999994,432207.4,247539,184668.40000000002]
[1994,369288,87711.4,456999.4,261994,195005.40000000002]
[1995,354157,80402,434559,259305,175254]
[1996,354309.6,88253.4,442563,269120,173443]
[1997,360787,97823.6,458610.6,278056,180554.59999999998]
[1998,378509,104527.6,483036.6,285408,197628.59999999998]
[1999,381216,102582,483798,292841,190957]
[2000,391707.9,106126.39999999999,497834.3,300270,108232.7,89331.6]
[2001,400503.25599999999,110384.48199999999,510887.73800000001,318303.76799999998,100802.16899999999,91781.801000000007]
[2002,410959.42099999997,125896.41600000003,536855.83700000006,351656.18799999997,106787.23900000003,78412.41]
[2003,406561.05099999998,141010.73300000001,547571.78399999999,366936.40199999989,116604.541,64030.841]
[2004,424317.75757999998,131876.96578,556194.72335999995,381177.99526,108857.21386999998,66159.514230000001]
[2005,455378.99848000001,139452.60743,594831.60590999993,393855.90339999995,130589.63168000002,70386.070830000011]
[2006,474948.38913000003,136783.08452,611731.47365000006,397352.99344999995,135188.73790000001,79189.742300000013]
[2007,480215.05980000005,156734.40870999996,636949.46851000004,423435.25273000012,122728.28064999997,90785.935129999998]
[2008,548730.44167000009,189220.89098000005,737951.33265,451621.73804000037,127841.75480999972,158487.83979999996]
[2009,547687.85557999997,193715.62033999996,741403.47591999988,487378.12721000006,154420.68435999984,99604.664350000006]
[2010,529988.38336999947,205291.34028999993,735279.72365999944,508150.48587999929,168809.60303000006,58319.634750000012]
[2011,570365.0669199999,219158.73944000009,789523.80635999981,530221.65833999927,175344.86111330718,83957.286906693393]
[2012,575074.92083000019,228360.88163999998,803435.80247000011,556823.67510000034,171508.6100325085,75103.517337491154]
[2013,628154.76722000027,231231.69987999997,859386.46710000024,577154.79777999991,191135.05518,91096.613342407625]
[2014,644722.40782999981,250922.4449899999,895644.8528199998,594883.46708999993,204175.53173283581,96585.853997163998]
[2015,684061.62010999955,280985.66775684908,965047.28786684875,618467.96495887055,230244.86319797818,116334.45971]
[2016,674720.72954999993,267094.84545999998,941815.57501000003,626928.1103400006,219512.09792999947,95375.366739999998]
[2017,671885.87031000014,270962.87374999991,942848.74406000017,631828.33569000021,225827.42261999994,85192.985749999993]
["1 Dépenses monétaires totales avec les constructions (y compris la part séparée au BBL dès 2007). Chiffres différents de ceux des comptes officiels de l'Ecole"]
["2 Dépenses financées par le budget ordinaire et les recettes internes (écolages, vente de services, revenus financiers…)"]
[]
["Détail des dépenses annuelles de l'EPFL1 financées par des fonds de tiers (kCHF)"]
[]
[null,"Fonds\nNational2","CTI","Programmes Européens","Offices\nConfédération","Mandats\nContrats","Autres3"]
[1982,6988,1479,null,3477,5955,5299]
[1983,7169,2374,null,4777,7973,3733]
[1984,8149,2679,null,4702,8313,4033]
[1985,8679,3143,null,5771,10158,4079]
[1986,9651,3862,null,6451,9807,4651]
[1987,11213,4219,null,13647,13162,4983]
[1988,13147,5234,null,7868,15589,5328]
[1989,15526,7452,null,11299,15877,5351]
[1990,17274,10711,null,9156,18944,8966]
[1991,18090,12018.4,null,15180.4,17439.400000000001,13470.2]
[1992,19773.599999999999,13299,null,11268,16941.599999999999,16566.8]
[1993,20018.599999999999,11808,null,10201.4,13086.4,27937]
[1994,21751.4,10701.6,null,11185.6,14475,29597.800000000003]
[1995,18482,9492.6,null,10358.6,12097.4,29971.4]
[1996,17645.599999999999,9987,null,10167,15599,34854.800000000003]
[1997,21355.4,9772,null,11740.6,17181.400000000001,37774.200000000004]
[1998,22554.6,11441,null,12480,22575,35477]
[1999,23499,14337,null,11419.4,18381,34945.599999999999]
[2000,21365.599999999999,16942.400000000001,22339.4,null,7711.6,37770.000000000007]
[2001,22250.082999999999,18491.982,22593.411,null,27360.108,19688.898000000001]
[2002,26020.842999999997,21009.35,27575.348999999998,null,21425.652000000002,29865.222000000005]
[2003,39905.461999999992,21124.595000000001,28581.301000000003,13348.86,26828.966,11221.549000000003]
[2004,40006.005269999994,20509.60499,28359.158800000001,11071.754560000001,20301.461309999999,11628.98085]
[2005,41022.28026,17449.03944,31957.612219999995,11965.418880000001,22273.700140000001,14784.556480000001]
[2006,39986.883289999998,14589.66812,38984.472989999995,8890.3896199999999,19076.819030000002,15254.851429999999]
[2007,37701.956220000029,11101.72494,40765.654060000008,8021.1912999999995,22258.399120000002,36885.483070000002]
[2008,46221.246569999996,12118.498930000012,38297.645730000004,5890.6588200000006,26339.561940000003,60353.278990000006]
[2009,56029.785860000025,15278.758370000012,42020.581199999993,8052.3479500000003,46798.788349999988,25535.358609999996]
[2010,66342.274920000011,14319.90011,45929.785250000008,10460.208539999998,49430.58455,18808.586920000002]
[2011,77011.609589999993,10584.343509999999,48408.006760000033,10897.998600000001,51109.835579999992,21146.94539999999]
[2012,77939.292450000023,14314.034090000005,50654.381249999977,11591.324490000003,49213.780310000002,24648.069049999984]
[2013,76302.690029999969,17065.188739999998,54473.49822999999,10176.189129999999,47254.544270000006,25959.589479999999]
[2014,74949.674599999984,16240.254449999999,57619.222980000006,12293.7919,60241.419129999987,29578.081929999989]
[2015,79410.838010000007,17155.033319999999,53818.26393999999,12775.154260000001,72820.492821187247,45005.88540566188]
[2016,85995.606730000014,15833.228980000002,49597.575679999994,12956.220379999999,64501.081109999999,38211.132580000005]
[2017,85018.239600000001,19161.969869999997,51958.533499999998,11573.406739999999,60567.569349999991,42683.15469000001]
["1 Dépenses monétaires => chiffres différents de ceux des comptes officiels de l'Ecole"]
["2 y compris NCCR et projets NanoTera/SystemsX"]
["3 Sponsoring, fondations, fonds désignés et réservés, congrès, postformation…"]